BEGIN:VCALENDAR
VERSION:2.0
PRODID:-//Winnipeg South Photo Club - ECPv6.15.20//NONSGML v1.0//EN
CALSCALE:GREGORIAN
METHOD:PUBLISH
X-WR-CALNAME:Winnipeg South Photo Club
X-ORIGINAL-URL:https://winnipegsouthphotoclub.ca
X-WR-CALDESC:Events for Winnipeg South Photo Club
REFRESH-INTERVAL;VALUE=DURATION:PT1H
X-Robots-Tag:noindex
X-PUBLISHED-TTL:PT1H
BEGIN:VTIMEZONE
TZID:America/Winnipeg
BEGIN:DAYLIGHT
TZOFFSETFROM:-0600
TZOFFSETTO:-0500
TZNAME:CDT
DTSTART:20250309T080000
END:DAYLIGHT
BEGIN:STANDARD
TZOFFSETFROM:-0500
TZOFFSETTO:-0600
TZNAME:CST
DTSTART:20251102T070000
END:STANDARD
BEGIN:DAYLIGHT
TZOFFSETFROM:-0600
TZOFFSETTO:-0500
TZNAME:CDT
DTSTART:20260308T080000
END:DAYLIGHT
BEGIN:STANDARD
TZOFFSETFROM:-0500
TZOFFSETTO:-0600
TZNAME:CST
DTSTART:20261101T070000
END:STANDARD
BEGIN:DAYLIGHT
TZOFFSETFROM:-0600
TZOFFSETTO:-0500
TZNAME:CDT
DTSTART:20270314T080000
END:DAYLIGHT
BEGIN:STANDARD
TZOFFSETFROM:-0500
TZOFFSETTO:-0600
TZNAME:CST
DTSTART:20271107T070000
END:STANDARD
END:VTIMEZONE
BEGIN:VEVENT
DTSTART;VALUE=DATE:20260301
DTEND;VALUE=DATE:20260401
DTSTAMP:20260423T034108
CREATED:20251022T123228Z
LAST-MODIFIED:20251022T123228Z
UID:11319-1772323200-1775001599@winnipegsouthphotoclub.ca
SUMMARY:Exhibit - Millennium Library
DESCRIPTION:Millennium Library Exhibit March 1\, 2026 to March 31\, 2026
URL:https://winnipegsouthphotoclub.ca/event/exhibit-millennium-library/
LOCATION:Millennium Library\, 251 Donald Street\, Winnipeg\, Manitoba\, Canada
CATEGORIES:Other Club Activities
END:VEVENT
BEGIN:VEVENT
DTSTART;TZID=America/Winnipeg:20260304T183000
DTEND;TZID=America/Winnipeg:20260304T203000
DTSTAMP:20260423T034108
CREATED:20250820T151302Z
LAST-MODIFIED:20260211T144426Z
UID:11144-1772649000-1772656200@winnipegsouthphotoclub.ca
SUMMARY:Speaker - Kristine Richer via Zoom
DESCRIPTION:Kristine Richer will present “Finding Light in the Dark\, The Process Behind Nightscape Photography” \nKristine Richer is a classically trained fine art photographer and educator based in Nova Scotia\, Canada\, working under the business name Kristine Rose Photography. \nShe holds a Bachelor of Fine Arts in Photography and a Bachelor of Design in Interdisciplinary Design from NSCAD University\, completed in 2009. Her studies began in the darkroom and spanned a wide range of photographic genres. Following graduation\, Kristine spent 11 years working in corporate creative as a commercial product photographer and product designer\, producing imagery that was published globally in large-scale commercial print runs. \nKristine also taught photography through NSCAD University’s Extended Studies program from 2008 to 2016\, bringing nearly a decade of experience teaching adult learners into her work as an educator. \nSince transitioning to full-time fine art and education in 2020\, Kristine has focused her work on nightscape and Milky Way photography\, teaching tens of thousands of students worldwide through her online programs. She is represented by Katzman Art Projects in Nova Scotia\, and her work has been awarded NASA’s Astronomy Picture of the Day (APOD) twice. \nLearn how strong nightscape photographs are built from the ground up\, starting with the initial idea and location planning\, through camera technique in the field\, and into the final stages of post-processing. \nKristine Richer (Kristine Rose Photography) shares how intentional choices shape successful night images\, including where to shoot\, how to approach camera settings\, and when techniques such as stacking or blending are useful. The emphasis is on understanding the why behind each decision\, helping photographers develop a clear\, repeatable process they can adapt to their own locations\, equipment\, and shooting style. \nDesigned to inspire while remaining practical\, this session offers technical insight and real-world examples photographers can apply right away. \n 
URL:https://winnipegsouthphotoclub.ca/event/speaker-kristine-rose/
LOCATION:Zoom meeting
CATEGORIES:Wednesday Night Program
END:VEVENT
BEGIN:VEVENT
DTSTART;TZID=America/Winnipeg:20260311T193000
DTEND;TZID=America/Winnipeg:20260311T213000
DTSTAMP:20260423T034108
CREATED:20250820T151059Z
LAST-MODIFIED:20260217T221524Z
UID:11142-1773257400-1773264600@winnipegsouthphotoclub.ca
SUMMARY:Speaker - Keith Putt
DESCRIPTION:Keith Putt will present “DeMystifying Macro Photography – Macro Basics in 2 Hours” \nKeith Putt is a long time member of Winnipeg South Photo Club and Manitoba Camera Club. He is responsible for Image review at WSPC. \nHe has been showing film and digital macro photos at WSPC for 20 years and will show us how to do it. \nFew WSPC and MCC members are heavily involved in macro. Why is that? Perhaps people are intimidated by stories of expense\, camera & software complexity\, steep learning curve and so on.  The truth is macro is like any other genre – start somewhere simple and gradually increase your interest\, skill\, complexity and expenditure. And what is “macro” anyway?  \nUnlike a telephoto lens\, for which there is no substitute\, there are ways to adapt most lenses to macro. The attached photos used ordinary lenses on a plain vanilla digital camera. The adapters cost $10-$50.  You can spend more and add complexity but it isn’t strictly necessary.  \nHe will describe his macro journey from zero-cost beginning to mega-buck today. He will touch on cameras\, lenses\, adapters\, lighting\, light modifiers and other gadgets. He will demonstrate several focus bracketing methods and in-camera focus stacking. \nThis is not an instructional seminar. It is simply an illustration of what is possible. \nKeith  encourages members to bring their macro gear – adapters\, lenses\, lights\, flash\, diffusers\, rails\, light booths – whatever you have. We will lay it out so people have a feeling for what is going on in the WSPC macro department. \n 
URL:https://winnipegsouthphotoclub.ca/event/speaker-keith-putt/
LOCATION:Acadia Junior High\, 175 Killarney Ave\, Winnipeg\, Manitoba\, R3T 3B3\, Canada
CATEGORIES:Wednesday Night Program
END:VEVENT
BEGIN:VEVENT
DTSTART;TZID=America/Winnipeg:20260315T100000
DTEND;TZID=America/Winnipeg:20260315T140000
DTSTAMP:20260423T034108
CREATED:20250922T143453Z
LAST-MODIFIED:20260312T140028Z
UID:11245-1773568800-1773583200@winnipegsouthphotoclub.ca
SUMMARY:Field Trip - Winnipeg Beach CANCELLED!
DESCRIPTION:Field trip to Winnipeg Beach area. Ice fishing and apparently lots of eagles to photograph.
URL:https://winnipegsouthphotoclub.ca/event/field-trip-winnipeg-beach/
LOCATION:Manitoba
CATEGORIES:Field Trip
END:VEVENT
BEGIN:VEVENT
DTSTART;TZID=America/Winnipeg:20260318T193000
DTEND;TZID=America/Winnipeg:20260318T213000
DTSTAMP:20260423T034108
CREATED:20250820T152355Z
LAST-MODIFIED:20260311T134311Z
UID:11157-1773862200-1773869400@winnipegsouthphotoclub.ca
SUMMARY:Speaker - Jocelyne Hebert
DESCRIPTION:Jocelyne Hebert will present “Behind the Story-A Journey from Concept to Completion” \nJocelyne Hebert\, MPA has been captivated by photography and storytelling since childhood. This \nlifelong passion gives her the artistic freedom to explore and share the beauty of the world \nthrough her lens. Specializing in portraiture\, Jocelyne thrives on the creative challenges of \nphotographic competition—pushing herself to express emotions and narratives that words alone \ncannot convey. \nStorytelling is at the heart of powerful photography. While a technically perfect image can impress\, \nit’s the story behind the photograph that creates connection. Visual storytelling brings context\, \nemotion\, and meaning to an image— transforming a simple portrait into a rich narrative\, a fleeting \nmoment into a lasting memory\, and a subject into a relatable character. \nThrough composition\, lighting\, expression\, setting\, and thoughtful detail\, photographers can \nsuggest relationships\, histories\, moods\, and ideas without saying a word. This storytelling layer \ninvites viewers to pause\, reflect\, and feel something deeper. \nUltimately\, storytelling elevates photography from documentation to art. It’s what makes an image \nmemorable\, impactful\, and emotionally resonant—because it speaks not just to the eyes\, but to the \nheart and imagination. \n 
URL:https://winnipegsouthphotoclub.ca/event/speaker-tba-9/
LOCATION:Acadia Junior High\, 175 Killarney Ave\, Winnipeg\, Manitoba\, R3T 3B3\, Canada
CATEGORIES:Wednesday Night Program
END:VEVENT
BEGIN:VEVENT
DTSTART;TZID=America/Winnipeg:20260325T190000
DTEND;TZID=America/Winnipeg:20260325T210000
DTSTAMP:20260423T034108
CREATED:20250902T141225Z
LAST-MODIFIED:20250902T141225Z
UID:11186-1774465200-1774472400@winnipegsouthphotoclub.ca
SUMMARY:Image Review - Theme is "A Pop of Color"
DESCRIPTION:Theme is “A Pop of Color”
URL:https://winnipegsouthphotoclub.ca/event/image-review-theme-is-a-pop-of-color/
LOCATION:Zoom meeting
CATEGORIES:Image Review
END:VEVENT
END:VCALENDAR