BEGIN:VCALENDAR
VERSION:2.0
PRODID:-//Winnipeg South Photo Club - ECPv6.15.20//NONSGML v1.0//EN
CALSCALE:GREGORIAN
METHOD:PUBLISH
X-ORIGINAL-URL:https://winnipegsouthphotoclub.ca
X-WR-CALDESC:Events for Winnipeg South Photo Club
REFRESH-INTERVAL;VALUE=DURATION:PT1H
X-Robots-Tag:noindex
X-PUBLISHED-TTL:PT1H
BEGIN:VTIMEZONE
TZID:America/Winnipeg
BEGIN:DAYLIGHT
TZOFFSETFROM:-0600
TZOFFSETTO:-0500
TZNAME:CDT
DTSTART:20220313T080000
END:DAYLIGHT
BEGIN:STANDARD
TZOFFSETFROM:-0500
TZOFFSETTO:-0600
TZNAME:CST
DTSTART:20221106T070000
END:STANDARD
BEGIN:DAYLIGHT
TZOFFSETFROM:-0600
TZOFFSETTO:-0500
TZNAME:CDT
DTSTART:20230312T080000
END:DAYLIGHT
BEGIN:STANDARD
TZOFFSETFROM:-0500
TZOFFSETTO:-0600
TZNAME:CST
DTSTART:20231105T070000
END:STANDARD
BEGIN:DAYLIGHT
TZOFFSETFROM:-0600
TZOFFSETTO:-0500
TZNAME:CDT
DTSTART:20240310T080000
END:DAYLIGHT
BEGIN:STANDARD
TZOFFSETFROM:-0500
TZOFFSETTO:-0600
TZNAME:CST
DTSTART:20241103T070000
END:STANDARD
END:VTIMEZONE
BEGIN:VEVENT
DTSTART;TZID=America/Winnipeg:20230419T193000
DTEND;TZID=America/Winnipeg:20230419T213000
DTSTAMP:20260425T171928
CREATED:20220905T150207Z
LAST-MODIFIED:20230410T181313Z
UID:7996-1681932600-1681939800@winnipegsouthphotoclub.ca
SUMMARY:Q & A Keith Putt/Ryan Lucenkiw
DESCRIPTION:Q & A session\, session split into two smaller sessions. \nRyan Lucenkiw will be taking a deep dive into exposure; diagnosing issues\, making corrections and providing various tips and tricks. \nKeith Putt will be doing a session on composition. While Keith says he will never claim to understand composition\, he will share the elements of composition and subject that create his own personal style. He will also share his own approach to yielding more of the photos he likes with the least wasted effort.
URL:https://winnipegsouthphotoclub.ca/event/q-a-to-be-announced-6/
LOCATION:Manitoba
CATEGORIES:2nd Wed Q&A etc
END:VEVENT
END:VCALENDAR