BEGIN:VCALENDAR
VERSION:2.0
PRODID:-//Winnipeg South Photo Club - ECPv6.15.20//NONSGML v1.0//EN
CALSCALE:GREGORIAN
METHOD:PUBLISH
X-WR-CALNAME:Winnipeg South Photo Club
X-ORIGINAL-URL:https://winnipegsouthphotoclub.ca
X-WR-CALDESC:Events for Winnipeg South Photo Club
REFRESH-INTERVAL;VALUE=DURATION:PT1H
X-Robots-Tag:noindex
X-PUBLISHED-TTL:PT1H
BEGIN:VTIMEZONE
TZID:America/Winnipeg
BEGIN:DAYLIGHT
TZOFFSETFROM:-0600
TZOFFSETTO:-0500
TZNAME:CDT
DTSTART:20190310T080000
END:DAYLIGHT
BEGIN:STANDARD
TZOFFSETFROM:-0500
TZOFFSETTO:-0600
TZNAME:CST
DTSTART:20191103T070000
END:STANDARD
BEGIN:DAYLIGHT
TZOFFSETFROM:-0600
TZOFFSETTO:-0500
TZNAME:CDT
DTSTART:20200308T080000
END:DAYLIGHT
BEGIN:STANDARD
TZOFFSETFROM:-0500
TZOFFSETTO:-0600
TZNAME:CST
DTSTART:20201101T070000
END:STANDARD
BEGIN:DAYLIGHT
TZOFFSETFROM:-0600
TZOFFSETTO:-0500
TZNAME:CDT
DTSTART:20210314T080000
END:DAYLIGHT
BEGIN:STANDARD
TZOFFSETFROM:-0500
TZOFFSETTO:-0600
TZNAME:CST
DTSTART:20211107T070000
END:STANDARD
BEGIN:DAYLIGHT
TZOFFSETFROM:-0600
TZOFFSETTO:-0500
TZNAME:CDT
DTSTART:20220313T080000
END:DAYLIGHT
BEGIN:STANDARD
TZOFFSETFROM:-0500
TZOFFSETTO:-0600
TZNAME:CST
DTSTART:20221106T070000
END:STANDARD
END:VTIMEZONE
BEGIN:VEVENT
DTSTART;TZID=America/Winnipeg:20211124T193000
DTEND;TZID=America/Winnipeg:20211124T213000
DTSTAMP:20260425T070908
CREATED:20210820T184544Z
LAST-MODIFIED:20210820T184544Z
UID:7233-1637782200-1637789400@winnipegsouthphotoclub.ca
SUMMARY:Image Review
DESCRIPTION:Image critique
URL:https://winnipegsouthphotoclub.ca/event/image-review-8/
LOCATION:Manitoba
CATEGORIES:Image Review
END:VEVENT
BEGIN:VEVENT
DTSTART;TZID=America/Winnipeg:20211110T193000
DTEND;TZID=America/Winnipeg:20211110T213000
DTSTAMP:20260425T070908
CREATED:20211029T222343Z
LAST-MODIFIED:20211029T222713Z
UID:7366-1636572600-1636579800@winnipegsouthphotoclub.ca
SUMMARY:Q&A Zoom meeting\, Wed 10 Nov 7:30 PM (NOTE not regular date)
DESCRIPTION:1) Pierre Richard will present on his photo-editing workflow with Lightroom & Topaz AI software\, particularly Denoise AI and Sharpen AI (approx. 1 hr) \n2) Q&As with free discussion between members:  Bring your questions\, suggestions on all things photographic or WSPC related (approx. 1 hr) \nA Zoom link will be sent out a couple of days before.
URL:https://winnipegsouthphotoclub.ca/event/qa-zoom-meeting-wed-10-nov-30-pm/
LOCATION:Manitoba
CATEGORIES:2nd Wed Q&A etc
END:VEVENT
BEGIN:VEVENT
DTSTART;TZID=America/Winnipeg:20211103T193000
DTEND;TZID=America/Winnipeg:20211103T213000
DTSTAMP:20260425T070908
CREATED:20210820T184249Z
LAST-MODIFIED:20210820T184249Z
UID:7228-1635967800-1635975000@winnipegsouthphotoclub.ca
SUMMARY:Speaker - David Lipnowski
DESCRIPTION:Speaker series
URL:https://winnipegsouthphotoclub.ca/event/speaker-david-lipnowski/
LOCATION:St Norbert Arts Center\, 100 Rue des Ruines du Monastere\, Winnipeg\, Manitoba\, R3V 1L6\, Canada
CATEGORIES:Wednesday Night Program
END:VEVENT
BEGIN:VEVENT
DTSTART;TZID=America/Winnipeg:20211027T193000
DTEND;TZID=America/Winnipeg:20211027T213000
DTSTAMP:20260425T070908
CREATED:20210820T184058Z
LAST-MODIFIED:20210820T184058Z
UID:7226-1635363000-1635370200@winnipegsouthphotoclub.ca
SUMMARY:Image Review
DESCRIPTION:Image critique
URL:https://winnipegsouthphotoclub.ca/event/image-review-7/
LOCATION:Manitoba
CATEGORIES:Image Review
END:VEVENT
BEGIN:VEVENT
DTSTART;TZID=America/Winnipeg:20211020T193000
DTEND;TZID=America/Winnipeg:20211020T213000
DTSTAMP:20260425T070908
CREATED:20210820T182726Z
LAST-MODIFIED:20211016T155115Z
UID:7222-1634758200-1634765400@winnipegsouthphotoclub.ca
SUMMARY:Q & A Event - Keith Putt (Adobe Bridge and Camera Raw) + Q&As & free discussion
DESCRIPTION:1) Keith Putt: “Introduction to Adobe Bridge and Camera Raw”\n2) Q&As and free discussion on any topic members would like to discuss\n3) bring suggestions for future Q&A sessions
URL:https://winnipegsouthphotoclub.ca/event/q-a-event-4/
LOCATION:Manitoba
CATEGORIES:Wednesday Night Program
END:VEVENT
BEGIN:VEVENT
DTSTART;TZID=America/Winnipeg:20211016T180000
DTEND;TZID=America/Winnipeg:20211016T210000
DTSTAMP:20260425T070908
CREATED:20211016T160643Z
LAST-MODIFIED:20211016T160643Z
UID:7354-1634407200-1634418000@winnipegsouthphotoclub.ca
SUMMARY:Field trip _ Evening Goose Flights @ Fortwhyte Alive 6-9pm (registration at their web site)
DESCRIPTION:
URL:https://winnipegsouthphotoclub.ca/event/field-trip-_-evening-goose-flights-fortwhyte-alive-6-9pm-registration-at-their-web-site/
LOCATION:Fortwhyte Alive
END:VEVENT
BEGIN:VEVENT
DTSTART;TZID=America/Winnipeg:20210926T090000
DTEND;TZID=America/Winnipeg:20210926T233000
DTSTAMP:20260425T070908
CREATED:20210902T215332Z
LAST-MODIFIED:20210915T143236Z
UID:7279-1632646800-1632699000@winnipegsouthphotoclub.ca
SUMMARY:The Leaf Gardens at Assiniboine Park (WSPC field trip)
DESCRIPTION:
URL:https://winnipegsouthphotoclub.ca/event/wspc-field-trip-assiniboine-park-the-leaf/
LOCATION:The Leaf Gardens @ Assiniboine Park\, 55 Pavilion Crescent\, Winnipeg\, MB\, R3P 2N6
CATEGORIES:Field Trip
END:VEVENT
BEGIN:VEVENT
DTSTART;TZID=America/Winnipeg:20210922T193000
DTEND;TZID=America/Winnipeg:20210922T213000
DTSTAMP:20260425T070908
CREATED:20210820T182423Z
LAST-MODIFIED:20210915T144957Z
UID:7219-1632339000-1632346200@winnipegsouthphotoclub.ca
SUMMARY:Speaker - Ryan Lucenkiw & Justin Anderson
DESCRIPTION:Speaker event
URL:https://winnipegsouthphotoclub.ca/event/speaker-ryan-lucenkiw-justin-anderson/
LOCATION:Manitoba
CATEGORIES:Wednesday Night Program
END:VEVENT
BEGIN:VEVENT
DTSTART;TZID=America/Winnipeg:20210528T183000
DTEND;TZID=America/Winnipeg:20210528T213000
DTSTAMP:20260425T070908
CREATED:20201206T131643Z
LAST-MODIFIED:20210306T140906Z
UID:6358-1622226600-1622237400@winnipegsouthphotoclub.ca
SUMMARY:Annual General Meeting
DESCRIPTION:AGM and Annual Wind-up if we are able to gather in person
URL:https://winnipegsouthphotoclub.ca/event/annual-general-meeting/
LOCATION:St Norbert Arts Center\, 100 Rue des Ruines du Monastere\, Winnipeg\, Manitoba\, R3V 1L6\, Canada
CATEGORIES:Other Club Activities
END:VEVENT
BEGIN:VEVENT
DTSTART;TZID=America/Winnipeg:20210526T193000
DTEND;TZID=America/Winnipeg:20210526T213000
DTSTAMP:20260425T070908
CREATED:20210306T140646Z
LAST-MODIFIED:20210306T141013Z
UID:6863-1622057400-1622064600@winnipegsouthphotoclub.ca
SUMMARY:Annual General Meeting (Zoom)
DESCRIPTION:To be held via zoom if we are unable to gather as a group in person
URL:https://winnipegsouthphotoclub.ca/event/annual-general-meeting-3/
LOCATION:Manitoba
CATEGORIES:Wednesday Night Program
END:VEVENT
BEGIN:VEVENT
DTSTART;TZID=America/Winnipeg:20210519T193000
DTEND;TZID=America/Winnipeg:20210519T213000
DTSTAMP:20260425T070908
CREATED:20201206T125913Z
LAST-MODIFIED:20201215T135049Z
UID:6351-1621452600-1621459800@winnipegsouthphotoclub.ca
SUMMARY:Speaker - David Pavlich
DESCRIPTION:Speaker event
URL:https://winnipegsouthphotoclub.ca/event/speaker-tba/
LOCATION:Manitoba
CATEGORIES:Wednesday Night Program
END:VEVENT
BEGIN:VEVENT
DTSTART;TZID=America/Winnipeg:20210512T193000
DTEND;TZID=America/Winnipeg:20210512T213000
DTSTAMP:20260425T070908
CREATED:20210318T015930Z
LAST-MODIFIED:20210318T020408Z
UID:6955-1620847800-1620855000@winnipegsouthphotoclub.ca
SUMMARY:Q & A Event - Dmitry Kirshner & Daryl Godkin
DESCRIPTION:Dmitry Kirshner – Website creation with Adobe Portfolio \nDaryl Godkin – Why is my computer so slow? Hardware considerations for post-processing
URL:https://winnipegsouthphotoclub.ca/event/q-a-event-3/
LOCATION:Manitoba
CATEGORIES:Wednesday Night Program
END:VEVENT
BEGIN:VEVENT
DTSTART;TZID=America/Winnipeg:20210505T193000
DTEND;TZID=America/Winnipeg:20210505T213000
DTSTAMP:20260425T070908
CREATED:20201206T125817Z
LAST-MODIFIED:20201206T130850Z
UID:6349-1620243000-1620250200@winnipegsouthphotoclub.ca
SUMMARY:Speaker - Alexander James
DESCRIPTION:Speaker event
URL:https://winnipegsouthphotoclub.ca/event/speaker-alexander-james/
LOCATION:Manitoba
CATEGORIES:Wednesday Night Program
END:VEVENT
BEGIN:VEVENT
DTSTART;TZID=America/Winnipeg:20210428T193000
DTEND;TZID=America/Winnipeg:20210428T213000
DTSTAMP:20260425T070908
CREATED:20201206T131538Z
LAST-MODIFIED:20201206T131538Z
UID:6356-1619638200-1619645400@winnipegsouthphotoclub.ca
SUMMARY:Image Review
DESCRIPTION:To share and comment on member images
URL:https://winnipegsouthphotoclub.ca/event/image-review-4/
LOCATION:Manitoba
CATEGORIES:Image Review
END:VEVENT
BEGIN:VEVENT
DTSTART;TZID=America/Winnipeg:20210421T193000
DTEND;TZID=America/Winnipeg:20210421T213000
DTSTAMP:20260425T070908
CREATED:20201206T125619Z
LAST-MODIFIED:20201215T135142Z
UID:6345-1619033400-1619040600@winnipegsouthphotoclub.ca
SUMMARY:Speaker - Sarah Hodges-Kolisnyk
DESCRIPTION:Speaker event
URL:https://winnipegsouthphotoclub.ca/event/speaker-david-pavlich/
LOCATION:Manitoba
CATEGORIES:Wednesday Night Program
END:VEVENT
BEGIN:VEVENT
DTSTART;TZID=America/Winnipeg:20210414T193000
DTEND;TZID=America/Winnipeg:20210414T213000
DTSTAMP:20260425T070908
CREATED:20210318T015758Z
LAST-MODIFIED:20210318T020333Z
UID:6953-1618428600-1618435800@winnipegsouthphotoclub.ca
SUMMARY:Q & A Event - Mathew Cawson & Al Siemens
DESCRIPTION:Mathew Cawson – Affinity Workflow \nAl Siemens – Lens filters
URL:https://winnipegsouthphotoclub.ca/event/q-a-event-2/
LOCATION:Manitoba
CATEGORIES:Wednesday Night Program
END:VEVENT
BEGIN:VEVENT
DTSTART;TZID=America/Winnipeg:20210407T193000
DTEND;TZID=America/Winnipeg:20210407T213000
DTSTAMP:20260425T070908
CREATED:20201206T125514Z
LAST-MODIFIED:20210208T182256Z
UID:6343-1617823800-1617831000@winnipegsouthphotoclub.ca
SUMMARY:Speaker- Mike Grandmaisson
DESCRIPTION:Speaker event – Stories Behind the Photographs
URL:https://winnipegsouthphotoclub.ca/event/speaker-cendrine-marrouat/
LOCATION:Manitoba
CATEGORIES:Wednesday Night Program
END:VEVENT
BEGIN:VEVENT
DTSTART;TZID=America/Winnipeg:20210324T193000
DTEND;TZID=America/Winnipeg:20210324T213000
DTSTAMP:20260425T070908
CREATED:20201206T125320Z
LAST-MODIFIED:20201206T125320Z
UID:6341-1616614200-1616621400@winnipegsouthphotoclub.ca
SUMMARY:Image Review
DESCRIPTION:To share and comment on member images
URL:https://winnipegsouthphotoclub.ca/event/image-review-3/
LOCATION:Manitoba
CATEGORIES:Image Review
END:VEVENT
BEGIN:VEVENT
DTSTART;TZID=America/Winnipeg:20210317T193000
DTEND;TZID=America/Winnipeg:20210317T213000
DTSTAMP:20260425T070908
CREATED:20201206T125126Z
LAST-MODIFIED:20201206T125212Z
UID:6339-1616009400-1616016600@winnipegsouthphotoclub.ca
SUMMARY:Speaker - Harry Johnson
DESCRIPTION:Speaker event
URL:https://winnipegsouthphotoclub.ca/event/speaker-harry-johnson/
LOCATION:Manitoba
CATEGORIES:Wednesday Night Program
END:VEVENT
BEGIN:VEVENT
DTSTART;TZID=America/Winnipeg:20210310T193000
DTEND;TZID=America/Winnipeg:20210310T213000
DTSTAMP:20260425T070908
CREATED:20210220T152243Z
LAST-MODIFIED:20210224T040243Z
UID:6814-1615404600-1615411800@winnipegsouthphotoclub.ca
SUMMARY:Q & A Event
DESCRIPTION:Hosted by Pierre Richard
URL:https://winnipegsouthphotoclub.ca/event/q-a-event/
LOCATION:Manitoba
CATEGORIES:Wednesday Night Program
END:VEVENT
BEGIN:VEVENT
DTSTART;TZID=America/Winnipeg:20210303T193000
DTEND;TZID=America/Winnipeg:20210303T213000
DTSTAMP:20260425T070908
CREATED:20201206T125027Z
LAST-MODIFIED:20201206T132020Z
UID:6337-1614799800-1614807000@winnipegsouthphotoclub.ca
SUMMARY:Speaker - Hans Arnold
DESCRIPTION:Speaker Event
URL:https://winnipegsouthphotoclub.ca/event/speaker-hans-arnold/
LOCATION:Manitoba
CATEGORIES:Wednesday Night Program
END:VEVENT
BEGIN:VEVENT
DTSTART;TZID=America/Winnipeg:20210224T193000
DTEND;TZID=America/Winnipeg:20210224T213000
DTSTAMP:20260425T070908
CREATED:20201206T124922Z
LAST-MODIFIED:20201206T131944Z
UID:6335-1614195000-1614202200@winnipegsouthphotoclub.ca
SUMMARY:Image Review
DESCRIPTION:To share and comment on member images
URL:https://winnipegsouthphotoclub.ca/event/image-review-2/
LOCATION:Manitoba
CATEGORIES:Image Review
END:VEVENT
BEGIN:VEVENT
DTSTART;TZID=America/Winnipeg:20210217T193000
DTEND;TZID=America/Winnipeg:20210217T213000
DTSTAMP:20260425T070908
CREATED:20201206T124814Z
LAST-MODIFIED:20201206T124836Z
UID:6333-1613590200-1613597400@winnipegsouthphotoclub.ca
SUMMARY:Speaker - Ed Sawatsky
DESCRIPTION:Speaker event – Exotic Morocco
URL:https://winnipegsouthphotoclub.ca/event/speaker-ed-sawatsky/
LOCATION:Manitoba
CATEGORIES:Wednesday Night Program
END:VEVENT
BEGIN:VEVENT
DTSTART;TZID=America/Winnipeg:20210210T193000
DTEND;TZID=America/Winnipeg:20210210T213000
DTSTAMP:20260425T070908
CREATED:20210204T203228Z
LAST-MODIFIED:20210204T203228Z
UID:6625-1612985400-1612992600@winnipegsouthphotoclub.ca
SUMMARY:Q &  A's
DESCRIPTION:If you have question about photography you would like answered\, one of the club members may have the answer…
URL:https://winnipegsouthphotoclub.ca/event/q-as/
LOCATION:Manitoba
END:VEVENT
BEGIN:VEVENT
DTSTART;TZID=America/Winnipeg:20210203T193000
DTEND;TZID=America/Winnipeg:20210203T213000
DTSTAMP:20260425T070908
CREATED:20201206T124634Z
LAST-MODIFIED:20210120T042255Z
UID:6331-1612380600-1612387800@winnipegsouthphotoclub.ca
SUMMARY:Speaker - KJ Rocan
DESCRIPTION:Art of Compositing
URL:https://winnipegsouthphotoclub.ca/event/speaker-kj-rocan/
LOCATION:Manitoba
CATEGORIES:Wednesday Night Program
END:VEVENT
BEGIN:VEVENT
DTSTART;TZID=America/Winnipeg:20210127T193000
DTEND;TZID=America/Winnipeg:20210127T213000
DTSTAMP:20260425T070908
CREATED:20201206T124320Z
LAST-MODIFIED:20201206T124320Z
UID:6329-1611775800-1611783000@winnipegsouthphotoclub.ca
SUMMARY:Image review
DESCRIPTION:To share and comment on member images
URL:https://winnipegsouthphotoclub.ca/event/image-review/
LOCATION:Manitoba
CATEGORIES:Image Review
END:VEVENT
BEGIN:VEVENT
DTSTART;TZID=America/Winnipeg:20210120T190000
DTEND;TZID=America/Winnipeg:20210120T213000
DTSTAMP:20260425T070908
CREATED:20201206T124132Z
LAST-MODIFIED:20210114T155315Z
UID:6327-1611169200-1611178200@winnipegsouthphotoclub.ca
SUMMARY:Speaker - Alex de Vries-Magnifico
DESCRIPTION:Seasons of Churchill
URL:https://winnipegsouthphotoclub.ca/event/speaker-sarah-hodges-kolisnyk/
LOCATION:Manitoba
CATEGORIES:Wednesday Night Program
END:VEVENT
BEGIN:VEVENT
DTSTART;TZID=America/Winnipeg:20210106T193000
DTEND;TZID=America/Winnipeg:20210106T213000
DTSTAMP:20260425T070908
CREATED:20201206T123626Z
LAST-MODIFIED:20201206T124506Z
UID:6325-1609961400-1609968600@winnipegsouthphotoclub.ca
SUMMARY:WSPC Business meeting
DESCRIPTION:Business meeting and image sharing
URL:https://winnipegsouthphotoclub.ca/event/wspc-business-meeting/
LOCATION:Manitoba
CATEGORIES:Wednesday Night Program
END:VEVENT
BEGIN:VEVENT
DTSTART;TZID=America/Winnipeg:20201216T193000
DTEND;TZID=America/Winnipeg:20201216T213000
DTSTAMP:20260425T070908
CREATED:20201206T031352Z
LAST-MODIFIED:20201206T124421Z
UID:6312-1608147000-1608154200@winnipegsouthphotoclub.ca
SUMMARY:WSPC Holiday Party
DESCRIPTION:
URL:https://winnipegsouthphotoclub.ca/event/wspc-holiday-party-2020/
LOCATION:Manitoba
CATEGORIES:Other Club Activities
END:VEVENT
BEGIN:VEVENT
DTSTART;TZID=America/Winnipeg:20201202T193000
DTEND;TZID=America/Winnipeg:20201202T213000
DTSTAMP:20260425T070908
CREATED:20201206T031238Z
LAST-MODIFIED:20201206T124529Z
UID:6308-1606937400-1606944600@winnipegsouthphotoclub.ca
SUMMARY:Speaker - Sheila Wiwchar
DESCRIPTION:
URL:https://winnipegsouthphotoclub.ca/event/speaker-sheila-wiwchar/
LOCATION:Manitoba
CATEGORIES:Wednesday Night Program
END:VEVENT
END:VCALENDAR