BEGIN:VCALENDAR
VERSION:2.0
PRODID:-//Winnipeg South Photo Club - ECPv6.15.20//NONSGML v1.0//EN
CALSCALE:GREGORIAN
METHOD:PUBLISH
X-WR-CALNAME:Winnipeg South Photo Club
X-ORIGINAL-URL:https://winnipegsouthphotoclub.ca
X-WR-CALDESC:Events for Winnipeg South Photo Club
REFRESH-INTERVAL;VALUE=DURATION:PT1H
X-Robots-Tag:noindex
X-PUBLISHED-TTL:PT1H
BEGIN:VTIMEZONE
TZID:America/Winnipeg
BEGIN:DAYLIGHT
TZOFFSETFROM:-0600
TZOFFSETTO:-0500
TZNAME:CDT
DTSTART:20190310T080000
END:DAYLIGHT
BEGIN:STANDARD
TZOFFSETFROM:-0500
TZOFFSETTO:-0600
TZNAME:CST
DTSTART:20191103T070000
END:STANDARD
BEGIN:DAYLIGHT
TZOFFSETFROM:-0600
TZOFFSETTO:-0500
TZNAME:CDT
DTSTART:20200308T080000
END:DAYLIGHT
BEGIN:STANDARD
TZOFFSETFROM:-0500
TZOFFSETTO:-0600
TZNAME:CST
DTSTART:20201101T070000
END:STANDARD
BEGIN:DAYLIGHT
TZOFFSETFROM:-0600
TZOFFSETTO:-0500
TZNAME:CDT
DTSTART:20210314T080000
END:DAYLIGHT
BEGIN:STANDARD
TZOFFSETFROM:-0500
TZOFFSETTO:-0600
TZNAME:CST
DTSTART:20211107T070000
END:STANDARD
END:VTIMEZONE
BEGIN:VEVENT
DTSTART;TZID=America/Winnipeg:20200923T193000
DTEND;TZID=America/Winnipeg:20200923T213000
DTSTAMP:20260425T215543
CREATED:20201206T133151Z
LAST-MODIFIED:20201206T133151Z
UID:6372-1600889400-1600896600@winnipegsouthphotoclub.ca
SUMMARY:Speaker - Ryan Lucenkiw
DESCRIPTION:Speaker Event – Macros and Nature
URL:https://winnipegsouthphotoclub.ca/event/speaker-ryan-lucenkiw/
LOCATION:St Norbert Arts Center\, 100 Rue des Ruines du Monastere\, Winnipeg\, Manitoba\, R3V 1L6\, Canada
CATEGORIES:Wednesday Night Program
END:VEVENT
BEGIN:VEVENT
DTSTART;TZID=America/Winnipeg:20200919T080000
DTEND;TZID=America/Winnipeg:20200919T110000
DTSTAMP:20260425T215543
CREATED:20201206T134054Z
LAST-MODIFIED:20201206T134054Z
UID:6379-1600502400-1600513200@winnipegsouthphotoclub.ca
SUMMARY:Field Trip - Bunn's Creek Centennial Park
DESCRIPTION:To photograph migratory birds
URL:https://winnipegsouthphotoclub.ca/event/field-trip-bunns-creek-centennial-park/
LOCATION:Manitoba
CATEGORIES:Field Trip
END:VEVENT
BEGIN:VEVENT
DTSTART;TZID=America/Winnipeg:20200916T183000
DTEND;TZID=America/Winnipeg:20200916T220000
DTSTAMP:20260425T215543
CREATED:20201206T133822Z
LAST-MODIFIED:20201206T133822Z
UID:6376-1600281000-1600293600@winnipegsouthphotoclub.ca
SUMMARY:Field Trip - Oak Hammock Marsh
DESCRIPTION:To photograph the migratory birds and the sunset
URL:https://winnipegsouthphotoclub.ca/event/field-trip-oak-hammock-marsh/
LOCATION:Oak Hammock Marsh Interpretive Center
CATEGORIES:Field Trip
END:VEVENT
BEGIN:VEVENT
DTSTART;TZID=America/Winnipeg:20200909T183000
DTEND;TZID=America/Winnipeg:20200909T213000
DTSTAMP:20260425T215543
CREATED:20201206T133333Z
LAST-MODIFIED:20201206T133333Z
UID:6374-1599676200-1599687000@winnipegsouthphotoclub.ca
SUMMARY:Annual General Meeting
DESCRIPTION:AGM for June 2020
URL:https://winnipegsouthphotoclub.ca/event/annual-general-meeting-2/
LOCATION:Manitoba
CATEGORIES:Other Club Activities
END:VEVENT
END:VCALENDAR