BEGIN:VCALENDAR
VERSION:2.0
PRODID:-//Winnipeg South Photo Club - ECPv6.15.20//NONSGML v1.0//EN
CALSCALE:GREGORIAN
METHOD:PUBLISH
X-WR-CALNAME:Winnipeg South Photo Club
X-ORIGINAL-URL:https://winnipegsouthphotoclub.ca
X-WR-CALDESC:Events for Winnipeg South Photo Club
REFRESH-INTERVAL;VALUE=DURATION:PT1H
X-Robots-Tag:noindex
X-PUBLISHED-TTL:PT1H
BEGIN:VTIMEZONE
TZID:America/Winnipeg
BEGIN:DAYLIGHT
TZOFFSETFROM:-0600
TZOFFSETTO:-0500
TZNAME:CDT
DTSTART:20230312T080000
END:DAYLIGHT
BEGIN:STANDARD
TZOFFSETFROM:-0500
TZOFFSETTO:-0600
TZNAME:CST
DTSTART:20231105T070000
END:STANDARD
BEGIN:DAYLIGHT
TZOFFSETFROM:-0600
TZOFFSETTO:-0500
TZNAME:CDT
DTSTART:20240310T080000
END:DAYLIGHT
BEGIN:STANDARD
TZOFFSETFROM:-0500
TZOFFSETTO:-0600
TZNAME:CST
DTSTART:20241103T070000
END:STANDARD
BEGIN:DAYLIGHT
TZOFFSETFROM:-0600
TZOFFSETTO:-0500
TZNAME:CDT
DTSTART:20250309T080000
END:DAYLIGHT
BEGIN:STANDARD
TZOFFSETFROM:-0500
TZOFFSETTO:-0600
TZNAME:CST
DTSTART:20251102T070000
END:STANDARD
BEGIN:DAYLIGHT
TZOFFSETFROM:-0600
TZOFFSETTO:-0500
TZNAME:CDT
DTSTART:20260308T080000
END:DAYLIGHT
BEGIN:STANDARD
TZOFFSETFROM:-0500
TZOFFSETTO:-0600
TZNAME:CST
DTSTART:20261101T070000
END:STANDARD
END:VTIMEZONE
BEGIN:VEVENT
DTSTART;TZID=America/Winnipeg:20240515T193000
DTEND;TZID=America/Winnipeg:20240515T213000
DTSTAMP:20260425T114643
CREATED:20240412T185704Z
LAST-MODIFIED:20240418T203526Z
UID:7243-1715801400-1715808600@winnipegsouthphotoclub.ca
SUMMARY:Speakers - Joey Senft & Brian Stefaniuk
DESCRIPTION:Speaker series
URL:https://winnipegsouthphotoclub.ca/event/speaker-tba-4/
LOCATION:Acadia Junior High\, 175 Killarney Ave\, Winnipeg\, Manitoba\, R3T 3B3\, Canada
CATEGORIES:Wednesday Night Program
END:VEVENT
BEGIN:VEVENT
DTSTART;TZID=America/Winnipeg:20240524T063000
DTEND;TZID=America/Winnipeg:20240524T213000
DTSTAMP:20260425T114643
CREATED:20240405T150535Z
LAST-MODIFIED:20240809T153617Z
UID:8004-1716532200-1716586200@winnipegsouthphotoclub.ca
SUMMARY:AGM and Image Sharing
DESCRIPTION:Annual General Meeting\, supper\, and image sharing
URL:https://winnipegsouthphotoclub.ca/event/agm-and-image-sharing/
CATEGORIES:Other Club Activities
END:VEVENT
BEGIN:VEVENT
DTSTART;TZID=America/Winnipeg:20240915T100000
DTEND;TZID=America/Winnipeg:20240915T150000
DTSTAMP:20260425T114643
CREATED:20240828T151901Z
LAST-MODIFIED:20240828T151901Z
UID:10040-1726394400-1726412400@winnipegsouthphotoclub.ca
SUMMARY:Field Trip and Picnic Lunch
DESCRIPTION:Manitoba Hunter Jumper Association Fall Harvest Equestrian Event. Photograph the jumping at 10:00 followed by a bring your own lunch picnic at West Beach at 1:00.
URL:https://winnipegsouthphotoclub.ca/event/field-trip-and-picnic-lunch/
LOCATION:Bird’s Hill Provincial Park\, Manitoba\, Canada
END:VEVENT
BEGIN:VEVENT
DTSTART;TZID=America/Winnipeg:20240925T193000
DTEND;TZID=America/Winnipeg:20240925T213000
DTSTAMP:20260425T114643
CREATED:20240809T140832Z
LAST-MODIFIED:20240811T221056Z
UID:9982-1727292600-1727299800@winnipegsouthphotoclub.ca
SUMMARY:Welcome\, Member Introduction\, Image Review Process\, Image Review
DESCRIPTION:Members will introduce themselves and bring their favourite (or not) photo gear or gadget to discuss. \nKeith Putt will introduce the new Image review process. \nAn Image review will take place with 1 photo submitted from each member.
URL:https://winnipegsouthphotoclub.ca/event/welcome-member-introduction-image-review-process-image-review/
LOCATION:Acadia Junior High\, 175 Killarney Ave\, Winnipeg\, Manitoba\, R3T 3B3\, Canada
CATEGORIES:Image Review,Wednesday Night Program
END:VEVENT
BEGIN:VEVENT
DTSTART;TZID=America/Winnipeg:20241002T193000
DTEND;TZID=America/Winnipeg:20241002T213000
DTSTAMP:20260425T114643
CREATED:20240808T015436Z
LAST-MODIFIED:20240923T155409Z
UID:9926-1727897400-1727904600@winnipegsouthphotoclub.ca
SUMMARY:Speaker - Bram Singleton
DESCRIPTION:Bram Singleton will present on Computational Photography and will provide a demonstration. \nPhotography has been a life-long pursuit for Bram. He has been immersed fully in that world for over fifteen years. He received his Diploma of Professional Photography from what was formally known as PrairieView School of Photography.  He has worked as a professional photographer\, taught at both casual and diploma levels. He is currently a visual artist working primarily with photography.
URL:https://winnipegsouthphotoclub.ca/event/t-b-a/
LOCATION:Acadia Junior High\, 175 Killarney Ave\, Winnipeg\, Manitoba\, R3T 3B3\, Canada
CATEGORIES:Wednesday Night Program
END:VEVENT
BEGIN:VEVENT
DTSTART;TZID=America/Winnipeg:20241016T193000
DTEND;TZID=America/Winnipeg:20241016T213000
DTSTAMP:20260425T114643
CREATED:20240808T020300Z
LAST-MODIFIED:20240915T132542Z
UID:9928-1729107000-1729114200@winnipegsouthphotoclub.ca
SUMMARY:Speaker - Robert Bisson
DESCRIPTION:Robert Bisson will present “Woodlands Photography” and “A Comparison of Lightroom Classic and Lightroom Cloud \nRobert has been a member of WSPC since about 2014\, serving as President in 2018-19.  He had started with colour slide photography in the mid-1980’s\, with a main interest in documenting his travels to various areas of the world.  He then evolved to digital photography in the early 2000’s\,  starting with a point and shoot\, evolving to first a DSLR and then a mirrorless system.  His photography interests had been quite diverse over the years\, but primarily focused on landscape and wildlife topics.  His post-processing is mostly done with Adobe Lightroom Classic\, along with Photoshop and more recently DxO PhotoLab. \nIn the first half of the presentation\, Robert will cover his learnings and experience in the temperate rain forest\, plus some of the woodland areas in some of his local favorite local areas such as Riding Mountain and the Whiteshell. \nFor the second half of the evening\, Robert will present a comparison of Lightroom Classic and Lightroom Cloud applications\, highlighting the differences and how these apps can be used together. \n  \n  \n 
URL:https://winnipegsouthphotoclub.ca/event/t-b-a-2/
LOCATION:Acadia Junior High\, 175 Killarney Ave\, Winnipeg\, Manitoba\, R3T 3B3\, Canada
CATEGORIES:Wednesday Night Program
END:VEVENT
BEGIN:VEVENT
DTSTART;TZID=America/Winnipeg:20241020T100000
DTEND;TZID=America/Winnipeg:20241020T130000
DTSTAMP:20260425T114643
CREATED:20241006T193118Z
LAST-MODIFIED:20241008T173100Z
UID:10231-1729418400-1729429200@winnipegsouthphotoclub.ca
SUMMARY:Field Trip
DESCRIPTION:Field trip to Stonewall Quarry.
URL:https://winnipegsouthphotoclub.ca/event/field-trip/
LOCATION:Stonewall Quarry\, 166 Main Street\, Stonewall\, Manitoba\, R0C 2Z0\, Canada
END:VEVENT
BEGIN:VEVENT
DTSTART;TZID=America/Winnipeg:20241030T193000
DTEND;TZID=America/Winnipeg:20241030T213000
DTSTAMP:20260425T114643
CREATED:20240811T221756Z
LAST-MODIFIED:20240811T221756Z
UID:10007-1730316600-1730323800@winnipegsouthphotoclub.ca
SUMMARY:Image Review - Theme is "Trees"
DESCRIPTION:Theme is “Trees” \nA tree or trees must be a meaningful element of your composition.
URL:https://winnipegsouthphotoclub.ca/event/image-review-theme-is-trees/
LOCATION:Zoom meeting
CATEGORIES:Image Review
END:VEVENT
BEGIN:VEVENT
DTSTART;TZID=America/Winnipeg:20241106T193000
DTEND;TZID=America/Winnipeg:20241106T201500
DTSTAMP:20260425T114643
CREATED:20240808T020608Z
LAST-MODIFIED:20241025T122947Z
UID:9930-1730921400-1730924100@winnipegsouthphotoclub.ca
SUMMARY:Speakers - Wendy Stephenson and Carol Zimmerman
DESCRIPTION:Wendy Stephenson and Carol Zimmerman will present “Khutzeymateen\, the Grizzly Bear Sanctuary” \nWendy has been an active member of the Manitoba Camera Club as well as the chair of the Red River Exhibition Photo Salon. \nCarol is a member and the new Vice President of WSPC. \nThey will present on their recent trip to  British Columbia and their adventures in Khutzeymateen\, the Grizzly Bear Sanctuary.
URL:https://winnipegsouthphotoclub.ca/event/t-b-a-3/
LOCATION:Acadia Junior High\, 175 Killarney Ave\, Winnipeg\, Manitoba\, R3T 3B3\, Canada
CATEGORIES:Wednesday Night Program
END:VEVENT
BEGIN:VEVENT
DTSTART;TZID=America/Winnipeg:20241106T201500
DTEND;TZID=America/Winnipeg:20241106T213000
DTSTAMP:20260425T114643
CREATED:20241025T124557Z
LAST-MODIFIED:20241025T124917Z
UID:10282-1730924100-1730928600@winnipegsouthphotoclub.ca
SUMMARY:Speaker - Robert Bisson
DESCRIPTION:Robert Bisson will present a post-processing demonstration of Woodlands Photography \nRobert has been a member of WSPC since about 2014\, serving as President in 2018-19.  He had started with colour slide photography in the mid-1980’s\, with a main interest in documenting his travels to various areas of the world.  He then evolved to digital photography in the early 2000’s\,  starting with a point and shoot\, evolving to first a DSLR and then a mirrorless system.  His photography interests had been quite diverse over the years\, but primarily focused on landscape and wildlife topics.  His post-processing is mostly done with Adobe Lightroom Classic\, along with Photoshop and more recently DxO PhotoLab. \nA few weeks ago\, Robert delivered a presentation on Woodlands Photography. As part of the presentation\, a brief overview of post-processing considerations were reviewed. Since then\, there were requests made for a post-processing demonstration. \nRobert will provide post-processing demonstrations using both ACR/Photoshop and Lightroom workflows covering Raw file preparation\, Luminosity (Tone) adjustments\, Color adjustments\, and final clean-up
URL:https://winnipegsouthphotoclub.ca/event/speaker-robert-bisson/
LOCATION:Acadia Junior High\, 175 Killarney Ave\, Winnipeg\, Manitoba\, R3T 3B3\, Canada
CATEGORIES:Wednesday Night Program
END:VEVENT
BEGIN:VEVENT
DTSTART;TZID=America/Winnipeg:20241110T110000
DTEND;TZID=America/Winnipeg:20241110T130000
DTSTAMP:20260425T114643
CREATED:20241107T171941Z
LAST-MODIFIED:20241107T171941Z
UID:10381-1731236400-1731243600@winnipegsouthphotoclub.ca
SUMMARY:Field Trip
DESCRIPTION:Walking Tour of the Exchange District. Meet in front of City Hall\, 510 Main Street. We will start with the NW tour.
URL:https://winnipegsouthphotoclub.ca/event/field-trip-2/
CATEGORIES:Field Trip
END:VEVENT
BEGIN:VEVENT
DTSTART;TZID=America/Winnipeg:20241120T193000
DTEND;TZID=America/Winnipeg:20241120T213000
DTSTAMP:20260425T114643
CREATED:20241107T165534Z
LAST-MODIFIED:20241107T165534Z
UID:10374-1732131000-1732138200@winnipegsouthphotoclub.ca
SUMMARY:Meeting Cancelled
DESCRIPTION:Meeting is cancelled as room unavailable at Acadia Junior High School.
URL:https://winnipegsouthphotoclub.ca/event/meeting-cancelled/
CATEGORIES:Wednesday Night Program
END:VEVENT
BEGIN:VEVENT
DTSTART;TZID=America/Winnipeg:20241127T193000
DTEND;TZID=America/Winnipeg:20241127T213000
DTSTAMP:20260425T114643
CREATED:20240811T222133Z
LAST-MODIFIED:20240811T222133Z
UID:10009-1732735800-1732743000@winnipegsouthphotoclub.ca
SUMMARY:Image Review - Theme is "Monochrome"
DESCRIPTION:Theme is “Monochrome” \nYour photo may be B&W or a grey scale image modified with a single colour across the entire tonal range (such as sepia).
URL:https://winnipegsouthphotoclub.ca/event/image-review-theme-is-monochrome/
LOCATION:Zoom meeting
CATEGORIES:Image Review
END:VEVENT
BEGIN:VEVENT
DTSTART;TZID=America/Winnipeg:20241203T211500
DTEND;TZID=America/Winnipeg:20241203T214500
DTSTAMP:20260425T114643
CREATED:20241107T172701Z
LAST-MODIFIED:20241107T173549Z
UID:10386-1733260500-1733262300@winnipegsouthphotoclub.ca
SUMMARY:Field Trip
DESCRIPTION:Field trip to view and photograph the 2024 CPKC Holiday Train and listen to a concert. The train will be at Panet Road & Molson Street. Please bring a monetary or heart-healthy food donation for the food bank.
URL:https://winnipegsouthphotoclub.ca/event/field-trip-3/
CATEGORIES:Field Trip
END:VEVENT
BEGIN:VEVENT
DTSTART;TZID=America/Winnipeg:20241204T193000
DTEND;TZID=America/Winnipeg:20241204T213000
DTSTAMP:20260425T114643
CREATED:20240814T181301Z
LAST-MODIFIED:20241123T150826Z
UID:10025-1733340600-1733347800@winnipegsouthphotoclub.ca
SUMMARY:Speaker - Dmitry Kirshner
DESCRIPTION:Dmitry Kirshner will present on processing workflow in TK Actions and Adobe Portfolio. \nDmitry Kirshner\,  is a Winnipeg-based landscape and abstract art photographer. Dmitry loves using digital processing to turn his images into striking works of art. He combines the power of advanced tools and software to bring out rich colors\, dramatic lighting\, and dynamic textures\, creating photos that tell a story beyond the ordinary. \nIn this session\, Dmitry will walk us through his creative process and show how he uses digital techniques to push the limits of his photography. \nDmitry’s presentation will be divided into two parts: first\, he will share his image processing workflow\, focusing on his favorite features of the TKActions Photoshop Panel; then\, he will demonstrate how to build a stunning photography website using Adobe Portfolio.
URL:https://winnipegsouthphotoclub.ca/event/speaker-dmitry-kirshner-2/
LOCATION:Acadia Junior High\, 175 Killarney Ave\, Winnipeg\, Manitoba\, R3T 3B3\, Canada
CATEGORIES:Wednesday Night Program
END:VEVENT
BEGIN:VEVENT
DTSTART;TZID=America/Winnipeg:20241213T183000
DTEND;TZID=America/Winnipeg:20241213T213000
DTSTAMP:20260425T114643
CREATED:20240809T131818Z
LAST-MODIFIED:20240809T135316Z
UID:9950-1734114600-1734125400@winnipegsouthphotoclub.ca
SUMMARY:Holiday Party and Image Review
DESCRIPTION:
URL:https://winnipegsouthphotoclub.ca/event/t-b-a-6/
LOCATION:Bronx Park Community Center\, 720 Henderson Highway\, Winnipeg\, Manitoba\, R2K 0Z5\, Canada
CATEGORIES:Other Club Activities
END:VEVENT
BEGIN:VEVENT
DTSTART;TZID=America/Winnipeg:20250108T193000
DTEND;TZID=America/Winnipeg:20250108T213000
DTSTAMP:20260425T114643
CREATED:20240809T132422Z
LAST-MODIFIED:20241214T155123Z
UID:9956-1736364600-1736371800@winnipegsouthphotoclub.ca
SUMMARY:Speaker - Jean-Pierre Parenty
DESCRIPTION:Jean-Pierre Parenty will speak on “The Coastal Wolves”. \nJean-Pierre is a self-taught photographer. Actually\, he just loves being out in nature getting close enough to wildlife to photograph them. When he comes home\, he wants to share what he has experienced with the wild things. \nJean-Pierre Parenty was born and raised in Otterburne\, Manitoba where he developed a keen interest in animals. As an adult\, he became fascinated with wildlife\, and he combined his interest in photography to become a wildlife photographer. After many photo-trips to Africa\, Asia\, and South. America\, he decided to focus on the wildlife of Canada.  \nHe received a wildlife accreditation in 2014 with the Professional Photographer of Canada (PPOC). He regularly places among the top wildlife photographers in the country winning awards in regional and national professional competitions. \nNothing is more rewarding for Jean-Pierre than to spend a day in nature and to come home with exciting images to share. “The more people know about wildlife\, the more they will be interested in protecting it.” \nJean-Pierre will focus on a Photo Trip he took in June 2023 on the west coast of Vancouver Island where he photographed coastal wolves. If time permits\, he will also present his Muskoxen Trip to Kuujjuaq. \n 
URL:https://winnipegsouthphotoclub.ca/event/t-b-a-8/
LOCATION:Acadia Junior High\, 175 Killarney Ave\, Winnipeg\, Manitoba\, R3T 3B3\, Canada
CATEGORIES:Wednesday Night Program
END:VEVENT
BEGIN:VEVENT
DTSTART;TZID=America/Winnipeg:20250122T193000
DTEND;TZID=America/Winnipeg:20250122T213000
DTSTAMP:20260425T114643
CREATED:20240807T152750Z
LAST-MODIFIED:20241203T220939Z
UID:9920-1737574200-1737581400@winnipegsouthphotoclub.ca
SUMMARY:Speaker - Keith Putt
DESCRIPTION:Keith Putt will present “The Micro Four Thirds Format” \nKeith is a long standing member  of both Winnipeg South Photo Club and the Manitoba Camera Club. \nHe will give a presentation demonstrating the advantages and disadvantages of MFT as implemented by OM System/Olympus. Handle the gear and watch it in action.  
URL:https://winnipegsouthphotoclub.ca/event/micro-4-3-camera/
LOCATION:Acadia Junior High\, 175 Killarney Ave\, Winnipeg\, Manitoba\, R3T 3B3\, Canada
CATEGORIES:Wednesday Night Program
END:VEVENT
BEGIN:VEVENT
DTSTART;TZID=America/Winnipeg:20250129T193000
DTEND;TZID=America/Winnipeg:20250129T213000
DTSTAMP:20260425T114643
CREATED:20240811T222517Z
LAST-MODIFIED:20240811T222517Z
UID:10011-1738179000-1738186200@winnipegsouthphotoclub.ca
SUMMARY:Image Review - Theme is "Not Your Ordinary Photo"
DESCRIPTION:Theme “Not Your Ordinary Photo” \nDare to be different. Go for the odd angle or perspective\, rarely photographed subjects\, compositions\, dramatic edits\, strange light\, lion eating a gnu and so on.
URL:https://winnipegsouthphotoclub.ca/event/image-review-theme-is-not-your-ordinary-photo/
LOCATION:Zoom meeting
CATEGORIES:Image Review
END:VEVENT
BEGIN:VEVENT
DTSTART;TZID=America/Winnipeg:20250205T193000
DTEND;TZID=America/Winnipeg:20250205T213000
DTSTAMP:20260425T114643
CREATED:20240809T132752Z
LAST-MODIFIED:20250107T202858Z
UID:9960-1738783800-1738791000@winnipegsouthphotoclub.ca
SUMMARY:Speaker - Ryan Lucenkiw
DESCRIPTION:Ryan Lucenkiw will present “All About Astro \nRyan is a nature photographer with a heavy focus on landscape astrophotography. The search for the perfect composition has brought him all over southern Manitoba and beyond. \nIn All About Astro\, Ryan will walk you through his process for capturing the night sky using examples from his work as case studies to showcase the planning\, execution\, and challenges presented by landscape astrophotography. Ryan will also share how he determines what\, where\, and when to shoot as well as tools and resources he uses to maximize chances of success. \n 
URL:https://winnipegsouthphotoclub.ca/event/t-b-a-10/
LOCATION:Acadia Junior High\, 175 Killarney Ave\, Winnipeg\, Manitoba\, R3T 3B3\, Canada
CATEGORIES:Wednesday Night Program
END:VEVENT
BEGIN:VEVENT
DTSTART;TZID=America/Winnipeg:20250219T193000
DTEND;TZID=America/Winnipeg:20250219T213000
DTSTAMP:20260425T114643
CREATED:20240809T132930Z
LAST-MODIFIED:20240925T145317Z
UID:9962-1739993400-1740000600@winnipegsouthphotoclub.ca
SUMMARY:Speaker - Mike Grandmaison
DESCRIPTION:Mike Grandmaison will present “Exploring Monochrome – Art and Techniques” \nMike Grandmaison has been photographing Canada exclusively for 50 years. In the process\, he has enjoyed an extremely enjoyable and successful career as a full-time professional freelance photographer. While Mike focussed on color throughout much of his career\, his first photograph was a black and white image of his aunt’s barn that he made as part of a project in grade 11. \n In this presentation\, Mike will discuss some of his influences\, talk about what makes a good monochrome image through examples from his extensive library\, discuss various ways to process black and white images and how best to bring your vision to life. \n   
URL:https://winnipegsouthphotoclub.ca/event/t-b-a-11/
LOCATION:Acadia Junior High\, 175 Killarney Ave\, Winnipeg\, Manitoba\, R3T 3B3\, Canada
CATEGORIES:Wednesday Night Program
END:VEVENT
BEGIN:VEVENT
DTSTART;TZID=America/Winnipeg:20250226T193000
DTEND;TZID=America/Winnipeg:20250226T213000
DTSTAMP:20260425T114643
CREATED:20240811T223220Z
LAST-MODIFIED:20240811T223220Z
UID:10013-1740598200-1740605400@winnipegsouthphotoclub.ca
SUMMARY:Image Review - Theme is "Open"
DESCRIPTION:Theme is “Open”
URL:https://winnipegsouthphotoclub.ca/event/image-review-theme-is-open/
LOCATION:Zoom meeting
CATEGORIES:Image Review
END:VEVENT
BEGIN:VEVENT
DTSTART;TZID=America/Winnipeg:20250305T193000
DTEND;TZID=America/Winnipeg:20250305T213000
DTSTAMP:20260425T114643
CREATED:20240809T133025Z
LAST-MODIFIED:20250226T232307Z
UID:9964-1741203000-1741210200@winnipegsouthphotoclub.ca
SUMMARY:Speaker - Mark Hughes
DESCRIPTION:Mark Hughes will speak on “Pet Photograph \nMark Hughes is a Professional Photographer based out of Edmonton\, Alberta who specializes in Pet Photography. Mark is accredited Photographer in a number of categories through the Professional Photographers of Canada including Canine Portraiture\, Wildlife\, Sports\, Animal Study and Digital Image Manipulation. He has photographed thousands of dogs and cats and has been doing pet photography since 2013. He is a retired forensic engineer and now does pet photography on a full time basis.\n\n\n\n\n\nMark has been working as a volunteer photographing dogs and cats for the Greater Edmonton Animal Rescue Society  since 2014. His images are used for adoption profiles as well as marketing and promotional materials. In addition to his photography adventures\, he and a good friend also have a podcast that is not specifically related to photography but covers a very wide range of topics. The Connect2 Podcast is a mostly weekly podcast that has been going since 2021. \nHis pet photography website at fureverphotos.ca He also has another website for more general photography at markhughesphotography.ca \n\n\n\n\n\n 
URL:https://winnipegsouthphotoclub.ca/event/t-b-a-12/
LOCATION:Zoom meeting
CATEGORIES:Wednesday Night Program
END:VEVENT
BEGIN:VEVENT
DTSTART;TZID=America/Winnipeg:20250319T193000
DTEND;TZID=America/Winnipeg:20250319T213000
DTSTAMP:20260425T114643
CREATED:20240809T133402Z
LAST-MODIFIED:20250301T133704Z
UID:9972-1742412600-1742419800@winnipegsouthphotoclub.ca
SUMMARY:Speaker - Dieter Schonwetter
DESCRIPTION:Dieter Schonwetter will present “Through the Unexpected Lens: Embracing Serendipity in Wildlife Photography” \nIn the quiet embrace of nature\, Dieter Schönwetter learned the art of capturing beauty from his father\, a timeless gift that would shape his life’s journey. His photography often begins with a vision\, but it’s the surprises along the way that yield the most unforgettable moments. Join Dieter as he recounts breathtaking encounters with wildlife\, and marshland explorations in his floating muskrat house\, the “WotaKjniepa II” (Water Beetle II). \n 
URL:https://winnipegsouthphotoclub.ca/event/t-b-a-16/
LOCATION:Acadia Junior High\, 175 Killarney Ave\, Winnipeg\, Manitoba\, R3T 3B3\, Canada
CATEGORIES:Wednesday Night Program
END:VEVENT
BEGIN:VEVENT
DTSTART;TZID=America/Winnipeg:20250326T193000
DTEND;TZID=America/Winnipeg:20250326T213000
DTSTAMP:20260425T114643
CREATED:20240811T223459Z
LAST-MODIFIED:20240811T223459Z
UID:10015-1743017400-1743024600@winnipegsouthphotoclub.ca
SUMMARY:Image Review - Theme is " Repetition"
DESCRIPTION:Theme is “Repetition” \nRepetition is everywhere in natural and artificial environments.
URL:https://winnipegsouthphotoclub.ca/event/image-review-theme-is-repetition/
LOCATION:Zoom meeting
CATEGORIES:Image Review
END:VEVENT
BEGIN:VEVENT
DTSTART;TZID=America/Winnipeg:20250416T193000
DTEND;TZID=America/Winnipeg:20250416T213000
DTSTAMP:20260425T114643
CREATED:20240809T133313Z
LAST-MODIFIED:20250326T131117Z
UID:9970-1744831800-1744839000@winnipegsouthphotoclub.ca
SUMMARY:Speaker - Daryl Godkin
DESCRIPTION:Daryl Godkin will speak on “Pure Persia – Landscapes and Architecture of Iran” \nJoin landscape and wildlife photographer\, Daryl Godkin\, as he shifts to landscapes and architecture to present images and stories from Iran.  \nIn 2018\, Daryl travelled from northern to southern Iran\, exploring a variety of landscapes from the Colorful Mountains in the north\, natural formations on Qeshm island in the south and the vast Lut Desert in the south-east.  Along the journey\, he visited many historic sites and mosques\, exploring and capturing the beautiful ancient architecture. \nWebsite: https://darylgodkin.com \nInstagram: darylgodkin \n 
URL:https://winnipegsouthphotoclub.ca/event/t-b-a-15/
LOCATION:Acadia Junior High\, 175 Killarney Ave\, Winnipeg\, Manitoba\, R3T 3B3\, Canada
CATEGORIES:Wednesday Night Program
END:VEVENT
BEGIN:VEVENT
DTSTART;TZID=America/Winnipeg:20250430T193000
DTEND;TZID=America/Winnipeg:20250430T213000
DTSTAMP:20260425T114643
CREATED:20240811T223917Z
LAST-MODIFIED:20240811T223917Z
UID:10017-1746041400-1746048600@winnipegsouthphotoclub.ca
SUMMARY:Image Review - Theme is "Food"
DESCRIPTION:Theme is “Food” (this is a Challenge Theme) \nA still life of fruit\, a dog’s breakfast\, a field of potatoes\, a plated meal\, an elephant being devoured by a hyena and so on.
URL:https://winnipegsouthphotoclub.ca/event/image-review-theme-is-food/
LOCATION:Zoom meeting
CATEGORIES:Image Review
END:VEVENT
BEGIN:VEVENT
DTSTART;TZID=America/Winnipeg:20250507T193000
DTEND;TZID=America/Winnipeg:20250507T213000
DTSTAMP:20260425T114643
CREATED:20250409T201611Z
LAST-MODIFIED:20250409T201611Z
UID:10763-1746646200-1746653400@winnipegsouthphotoclub.ca
SUMMARY:Speaker - April Stampe
DESCRIPTION:April Stampe will present “Owl Photograpy. Tips to Improve your Images and Ethics to Guide Your Practices.” \nApril Stampe lives in Winnipeg Manitoba and currently works as a Palliative care nurse. With the difficult nature of her day job\, photography helps her decompress while enjoying wildlife in the great outdoors. \nShe is a 100% self taught photographer and currently shoots with the Sony Alpha system. In general\, her photography style focuses less on individual camera settings and more on the overall composition while out in the field. Her favourite images often include a bit more of the environment around her subject\, instead of the close up shots.  \nOver the years April has had the honour of having her images selected in “Audubon’s top 100” and has been featured in “Area News” and “Canadian geographic” magazines. She has used her photography to support the Manitoba Burrowing Owl Recovery program (MBORP) and she also volunteers as a content creator for Wildlife Haven\, helping them document their work caring for sick and injured wildlife. \nWhile photography is just a hobby for her right now\, she aspires to be able to use it to support conservation efforts in Manitoba \nIn this presentation\, April will discuss general tips to help you find owls and tips to improve your images. She will go over composition\, lighting\, and how to get the best shots possible when dealing with busy twig-filled scenes. She will also spend some time discussing the importance of practicing good ethics when photographing owls and how your actions as a photographer can impact these sensitive species. She will discuss the importance of keeping locations off social media and discuss how learning the behaviour of the species you’re photographing can help you get the shots you want\, without causing stress to your subject.  \n 
URL:https://winnipegsouthphotoclub.ca/event/speaker-april-stampe/
LOCATION:Acadia Junior High\, 175 Killarney Ave\, Winnipeg\, Manitoba\, R3T 3B3\, Canada
CATEGORIES:Wednesday Night Program
END:VEVENT
BEGIN:VEVENT
DTSTART;TZID=America/Winnipeg:20250521T190000
DTEND;TZID=America/Winnipeg:20250521T210000
DTSTAMP:20260425T114643
CREATED:20240809T133446Z
LAST-MODIFIED:20250512T175857Z
UID:9974-1747854000-1747861200@winnipegsouthphotoclub.ca
SUMMARY:Zoom Meeting: Speakers - Robert Bisson\, Peter Blahut\, Wayne Loeppky\, and Keith Putt
DESCRIPTION:Robert Bisson\, Peter Blahut\, Wayne Loeppky\, and Keith Putt will present “4 Fabulous Photographer’s Processing Work Flow” \nRobert\, Peter\, Wayne and Keith are longstanding active members of Winnipeg South Photo Club. They have been actively involved on the executive and with programming for the club \nEach of the presenters will demonstrate their individual processing work flow using Lightroom or Camera Raw\, Photoshop\, and possibly Luminar. A variety of images will be edited. The purpose of this presentation is to become aware of how different processes may be used to achieve a desired outcome and to see different editing tools used. \n 
URL:https://winnipegsouthphotoclub.ca/event/t-b-a-17/
LOCATION:Zoom meeting
CATEGORIES:Wednesday Night Program
END:VEVENT
BEGIN:VEVENT
DTSTART;TZID=America/Winnipeg:20250523T183000
DTEND;TZID=America/Winnipeg:20250523T213000
DTSTAMP:20260425T114643
CREATED:20240809T133609Z
LAST-MODIFIED:20250326T133115Z
UID:9976-1748025000-1748035800@winnipegsouthphotoclub.ca
SUMMARY:Annual General Meeting\, Dinner\, and Image Review
DESCRIPTION:
URL:https://winnipegsouthphotoclub.ca/event/annual-general-meeting-and-dinner/
LOCATION:Bronx Park Community Center\, 720 Henderson Highway\, Winnipeg\, Manitoba\, R2K 0Z5\, Canada
CATEGORIES:Other Club Activities
END:VEVENT
END:VCALENDAR