BEGIN:VCALENDAR
VERSION:2.0
PRODID:-//Winnipeg South Photo Club - ECPv6.15.20//NONSGML v1.0//EN
CALSCALE:GREGORIAN
METHOD:PUBLISH
X-WR-CALNAME:Winnipeg South Photo Club
X-ORIGINAL-URL:https://winnipegsouthphotoclub.ca
X-WR-CALDESC:Events for Winnipeg South Photo Club
REFRESH-INTERVAL;VALUE=DURATION:PT1H
X-Robots-Tag:noindex
X-PUBLISHED-TTL:PT1H
BEGIN:VTIMEZONE
TZID:America/Winnipeg
BEGIN:DAYLIGHT
TZOFFSETFROM:-0600
TZOFFSETTO:-0500
TZNAME:CDT
DTSTART:20220313T080000
END:DAYLIGHT
BEGIN:STANDARD
TZOFFSETFROM:-0500
TZOFFSETTO:-0600
TZNAME:CST
DTSTART:20221106T070000
END:STANDARD
BEGIN:DAYLIGHT
TZOFFSETFROM:-0600
TZOFFSETTO:-0500
TZNAME:CDT
DTSTART:20230312T080000
END:DAYLIGHT
BEGIN:STANDARD
TZOFFSETFROM:-0500
TZOFFSETTO:-0600
TZNAME:CST
DTSTART:20231105T070000
END:STANDARD
BEGIN:DAYLIGHT
TZOFFSETFROM:-0600
TZOFFSETTO:-0500
TZNAME:CDT
DTSTART:20240310T080000
END:DAYLIGHT
BEGIN:STANDARD
TZOFFSETFROM:-0500
TZOFFSETTO:-0600
TZNAME:CST
DTSTART:20241103T070000
END:STANDARD
BEGIN:DAYLIGHT
TZOFFSETFROM:-0600
TZOFFSETTO:-0500
TZNAME:CDT
DTSTART:20250309T080000
END:DAYLIGHT
BEGIN:STANDARD
TZOFFSETFROM:-0500
TZOFFSETTO:-0600
TZNAME:CST
DTSTART:20251102T070000
END:STANDARD
END:VTIMEZONE
BEGIN:VEVENT
DTSTART;TZID=America/Winnipeg:20231018T193000
DTEND;TZID=America/Winnipeg:20231018T213000
DTSTAMP:20260425T112416
CREATED:20220828T172634Z
LAST-MODIFIED:20230923T164838Z
UID:7941-1697657400-1697664600@winnipegsouthphotoclub.ca
SUMMARY:Speaker - Keith Levit
DESCRIPTION:Street Photography and Back to Film \n 
URL:https://winnipegsouthphotoclub.ca/event/speaker-hans-arnold-2/
LOCATION:Acadia Junior High\, 175 Killarney Ave\, Winnipeg\, Manitoba\, R3T 3B3\, Canada
CATEGORIES:Wednesday Night Program
END:VEVENT
BEGIN:VEVENT
DTSTART;TZID=America/Winnipeg:20231021T100000
DTEND;TZID=America/Winnipeg:20231021T130000
DTSTAMP:20260425T112416
CREATED:20221005T170435Z
LAST-MODIFIED:20230923T170129Z
UID:8041-1697882400-1697893200@winnipegsouthphotoclub.ca
SUMMARY:Trappist Monastery Provincial Heritage Park
DESCRIPTION:Field trip; bring a lunch.
URL:https://winnipegsouthphotoclub.ca/event/old-pinawa-dam/
LOCATION:Trappist Monastery Provincial Heritage Park\, St. Norbert\, Manitoba\, Canada
CATEGORIES:Field Trip
END:VEVENT
BEGIN:VEVENT
DTSTART;TZID=America/Winnipeg:20231101T193000
DTEND;TZID=America/Winnipeg:20231101T213000
DTSTAMP:20260425T112416
CREATED:20220901T012017Z
LAST-MODIFIED:20231101T185229Z
UID:7957-1698867000-1698874200@winnipegsouthphotoclub.ca
SUMMARY:Pierre Richard - The Northwest Passage: Greenland to Alaska
DESCRIPTION:Pierre is a biologist and naturalist who has always loved travel and the outdoors. He took up photography in the late 1990s\, mainly to document his travels and wildlife observations. But became more ambitious in his composition after reading about photography and attending WSPC meetings. Pierre was a member of the WSPC executive for 4 years. He particularly affections bird photography but likes to photograph dramatic landscapes.  The presentation illustrates two of his Arctic trips on small expedition ships where he worked as a guide. \n 
URL:https://winnipegsouthphotoclub.ca/event/speaker-dave-benson/
LOCATION:Acadia Junior High\, 175 Killarney Ave\, Winnipeg\, Manitoba\, R3T 3B3\, Canada
CATEGORIES:Wednesday Night Program
END:VEVENT
BEGIN:VEVENT
DTSTART;TZID=America/Winnipeg:20231115T193000
DTEND;TZID=America/Winnipeg:20231115T213000
DTSTAMP:20260425T112416
CREATED:20220901T011740Z
LAST-MODIFIED:20231101T185847Z
UID:7953-1700076600-1700083800@winnipegsouthphotoclub.ca
SUMMARY:Nancy Kerr - Soap Bubbles and refraction photography
DESCRIPTION:Photo technique show and tell
URL:https://winnipegsouthphotoclub.ca/event/q-a-to-be-announced/
LOCATION:Acadia Junior High\, 175 Killarney Ave\, Winnipeg\, Manitoba\, R3T 3B3\, Canada
CATEGORIES:2nd Wed Q&A etc
END:VEVENT
BEGIN:VEVENT
DTSTART;TZID=America/Winnipeg:20231117T150000
DTEND;TZID=America/Winnipeg:20231117T160000
DTSTAMP:20260425T112416
CREATED:20220905T150342Z
LAST-MODIFIED:20231108T203241Z
UID:8000-1700233200-1700236800@winnipegsouthphotoclub.ca
SUMMARY:Manitoba Legislature - Field Trip
DESCRIPTION:The Winnipeg South Photo Club will be touring the Manitoba Legislature on Friday November 17th at 3:00 p.m. This is a private guided tour for our club. The tour will last approximately 1 hour and include the Stair Case\, Rotunda and Chamber. \nThere is no public parking on the Legislature grounds. They recommend street parking (metered) on Assiniboine Ave.\, Kennedy St. or at the Bay Parkade (St. Mary Ave at Memorial Blvd.). \nThey also recommend keeping tripods to a minimum\, especially since everything needs to go through security. 
URL:https://winnipegsouthphotoclub.ca/event/speaker-to-be-announced-3/
LOCATION:Manitoba Legislature\, Broadway and Osborne
CATEGORIES:Field Trip
END:VEVENT
BEGIN:VEVENT
DTSTART;TZID=America/Winnipeg:20231206T193000
DTEND;TZID=America/Winnipeg:20231206T213000
DTSTAMP:20260425T112416
CREATED:20231129T163418Z
LAST-MODIFIED:20231129T170304Z
UID:7977-1701891000-1701898200@winnipegsouthphotoclub.ca
SUMMARY:Speaker - Lindsay Reid
DESCRIPTION:Lindsay Reid is a Métis photographer\, based in Canada\, specializing in architectural exteriors\, interiors\, landscape photography and the designed/built environment. She works with architects\, interior designers\, landscape architects\, artists\, engineers and developers to capture images of their spaces and work they have designed and built. Her clients use the images captured for their marketing\, award applications\, project documentation and bidding proposals. Lindsay has been working as an architectural photographer for the past 7 years\, when she transitioned from her 15 year career as a graphic designer. For Lindsay\, photography has proven to be a perfect balance between creative and technical.
URL:https://winnipegsouthphotoclub.ca/event/q-a-to-be-announced-4/
LOCATION:Acadia Junior High\, 175 Killarney Ave\, Winnipeg\, Manitoba\, R3T 3B3\, Canada
CATEGORIES:Wednesday Night Program
END:VEVENT
BEGIN:VEVENT
DTSTART;TZID=America/Winnipeg:20231215T183000
DTEND;TZID=America/Winnipeg:20231215T213000
DTSTAMP:20260425T112416
CREATED:20220901T012918Z
LAST-MODIFIED:20231128T201830Z
UID:7965-1702665000-1702675800@winnipegsouthphotoclub.ca
SUMMARY:Holiday Party
DESCRIPTION:Holiday party and image sharing
URL:https://winnipegsouthphotoclub.ca/event/holiday-party/
LOCATION:Bronx Park Community Center\, 720 Henderson Highway\, Winnipeg\, Manitoba\, R2K 0Z5\, Canada
CATEGORIES:Other Club Activities
END:VEVENT
BEGIN:VEVENT
DTSTART;TZID=America/Winnipeg:20240110T193000
DTEND;TZID=America/Winnipeg:20240110T213000
DTSTAMP:20260425T112416
CREATED:20231231T183139Z
LAST-MODIFIED:20240102T222519Z
UID:7971-1704915000-1704922200@winnipegsouthphotoclub.ca
SUMMARY:Speaker Ronnie Gillfillan - Food Photography
DESCRIPTION:Ron has a dynamic background ranging from photographing cars and motorcycles\, fashion\, musicians. He has photographed from helicopters and photographed on movie sets.  Ron’s been a professional photographer for the past 50 years\, 15 of which were in Vancouver where he owned and operated a successful commercial studio\, he also had a studio in Kelowna BC for 2 years. Moving back to Winnipeg in 1995 he went to work for G.B. Graphics as their fashion and location photographer for 8 years. G.B. Graphics was the first studio in Winnipeg to go digital over 26 years ago. In 2003 he started teaching at Tec Voc High School as their Head Photography Instructor. \nRon has always been a proud member of Professional Photographer of Canada (PPOC) and Professional Photographer Association of Manitoba (PPAM). Ron has been a board member for the PPAM for two terms\, one as Promotions and one as Committee Chairman and in 1997 the Education Chairman in 1998\, and worked on the PPOC National Convention Ottawa/Hall in 1999. In 1997 he was presented with the Photographer of the Year award from PPAM. \nRon’s presentation on food photography will cover many topics\, including food styling\, plating\, selecting lenses\, product photography\, photo composition\, lighting\, and more. The presentation is suited both for a beginner looking for food photography basics or an experienced photographer looking to learn new skills.
URL:https://winnipegsouthphotoclub.ca/event/q-a-to-be-announced-3/
LOCATION:Acadia Junior High\, 175 Killarney Ave\, Winnipeg\, Manitoba\, R3T 3B3\, Canada
CATEGORIES:Wednesday Night Program
ATTACH;FMTTYPE=image/jpeg:https://winnipegsouthphotoclub.ca/wp-content/uploads/2023/12/Presentation-Ron-Gilfillan-Ice-cream-coffe-beans_Announce-Wed-Jan10_31Dec23.jpg
END:VEVENT
BEGIN:VEVENT
DTSTART;TZID=America/Winnipeg:20240127T100000
DTEND;TZID=America/Winnipeg:20240127T140000
DTSTAMP:20260425T112416
CREATED:02021231T173923Z
LAST-MODIFIED:20240102T225743Z
UID:7781-1706349600-1706364000@winnipegsouthphotoclub.ca
SUMMARY:Q&A / Field Trip to Technical Vocational High School\, Photography Program
DESCRIPTION:Ronnie Gilfillan has been the head Photography instructor at Tech-Voc\,  Canada’s largest photography school\, for more than 20 years. Ron will give a live demonstration of food photography techniques and invites your active participation. \n 
URL:https://winnipegsouthphotoclub.ca/event/qa-ryan-lucinkew-photoshop-retouching-tools/
LOCATION:Technical-Vocational High School\, 1555 Wall Street\, Winnipeg\, MB\, R3E 2S2\, Canada
CATEGORIES:Other Club Activities
END:VEVENT
BEGIN:VEVENT
DTSTART;TZID=America/Winnipeg:20240131T193000
DTEND;TZID=America/Winnipeg:20240131T213000
DTSTAMP:20260425T112416
CREATED:02021231T180117Z
LAST-MODIFIED:20240102T213240Z
UID:7973-1706729400-1706736600@winnipegsouthphotoclub.ca
SUMMARY:Image Review
DESCRIPTION:Image critique
URL:https://winnipegsouthphotoclub.ca/event/image-review-15/
LOCATION:Manitoba
CATEGORIES:Image Review
END:VEVENT
BEGIN:VEVENT
DTSTART;TZID=America/Winnipeg:20240207T193000
DTEND;TZID=America/Winnipeg:20240207T213000
DTSTAMP:20260425T112416
CREATED:02020102T182729Z
LAST-MODIFIED:20240123T225558Z
UID:7247-1707334200-1707341400@winnipegsouthphotoclub.ca
SUMMARY:Speaker - Al Siemens
DESCRIPTION:Al will present on ‘Perspective and Visualization’ \nAl is a retired Professional Photographer who was a member of PPOC\, PPAM\, and Northern Lights. \nAl was mostly a portrait photographer during his three decades of Portraiture photography. These were all in the film era. On his reflection Al did over 150\,000 portraits sittings. After his retirement Al decided to begin his personal photography journey in the then new era of mirrorless digital photography. This was for his own creativity in both Landscape and Wildlife.
URL:https://winnipegsouthphotoclub.ca/event/speaker-tba-6/
LOCATION:Acadia Junior High\, 175 Killarney Ave\, Winnipeg\, Manitoba\, R3T 3B3\, Canada
CATEGORIES:Wednesday Night Program
END:VEVENT
BEGIN:VEVENT
DTSTART;TZID=America/Winnipeg:20240217T100000
DTEND;TZID=America/Winnipeg:20240217T170000
DTSTAMP:20260425T112416
CREATED:20230106T011759Z
LAST-MODIFIED:20240207T211334Z
UID:8349-1708164000-1708189200@winnipegsouthphotoclub.ca
SUMMARY:Field Trip - Festival du Voyageur
DESCRIPTION:Saturday February 17\, 2024 from 10:00 to 5:00 p.m. Whittier Park \nBuy tickets here \nSnow sculptures \nFort Gibraltar \nFrequently asked questions \n\nCan I buy tickets at the Parc du Voyageur? Yes\, but please note that some days of the Festival may sell out. We strongly encourage festival goers to purchase their tickets in advance to guarantee their entry.\nWhere can I park and how much do I pay? You have the option of using the parking lot at Parc du Voyageur for $10. However\, parking is very limited so we encourage you to use the shuttle buses\, carpool or use a cab service.\nIs there a place to warm up? Yes. We’re a winter festival but we have many indoor heated places for you to warm up. All of our tents are heated to a comfortable temperature. We control park capacity and ticket sales to ensure there’s enough heated places for everyone. Festivalgoers can enjoy outdoor activities and roam from tent to tent to see concerts and have food or drinks.\nTripods are welcome. (Chantal Vielfaure\, Director of Marketing\, Communications and Sales)
URL:https://winnipegsouthphotoclub.ca/event/the-leaf-assiniboine-park/
LOCATION:Festival du Voyageur\, 836 Joseph Street\, Winnipeg\, Manitoba\, R2Y 0H8\, Canada
CATEGORIES:Field Trip
END:VEVENT
BEGIN:VEVENT
DTSTART;TZID=America/Winnipeg:20240228T193000
DTEND;TZID=America/Winnipeg:20240228T213000
DTSTAMP:20260425T112416
CREATED:20240201T191912Z
LAST-MODIFIED:20240201T204717Z
UID:7955-1709148600-1709155800@winnipegsouthphotoclub.ca
SUMMARY:Image Review - Theme is "Curves"
DESCRIPTION:Image critique
URL:https://winnipegsouthphotoclub.ca/event/image-review-13/
LOCATION:Manitoba
CATEGORIES:Image Review
END:VEVENT
BEGIN:VEVENT
DTSTART;TZID=America/Winnipeg:20240320T193000
DTEND;TZID=America/Winnipeg:20240320T213000
DTSTAMP:20260425T112416
CREATED:20240312T233655Z
LAST-MODIFIED:20240313T004210Z
UID:7981-1710963000-1710970200@winnipegsouthphotoclub.ca
SUMMARY:Speaker Robert Wilson
DESCRIPTION:Robert will be presenting on “Created photos” \nRobert  creates scenes (often building props & sets) and put actors in them.  Although he uses Photoshop\, whatever prop/scene you see in his compositions\, it is real\, not added digitally. Robert’s scenes are often Chaplinesque; characters in odd/humorous situations making fun of the situation/activity\, never the participant.  A reflection of what’s going on his mind. If there is any goal for a viewer of Robert’s photographs\, it is to generate an emotion.
URL:https://winnipegsouthphotoclub.ca/event/speaker-mike-grandmaison/
LOCATION:Acadia Junior High\, 175 Killarney Ave\, Winnipeg\, Manitoba\, R3T 3B3\, Canada
CATEGORIES:Wednesday Night Program
END:VEVENT
BEGIN:VEVENT
DTSTART;TZID=America/Winnipeg:20240327T193000
DTEND;TZID=America/Winnipeg:20240327T213000
DTSTAMP:20260425T112416
CREATED:20240312T232223Z
LAST-MODIFIED:20240313T002927Z
UID:7961-1711567800-1711575000@winnipegsouthphotoclub.ca
SUMMARY:Image Review - Theme is 'Nature'
DESCRIPTION:Image Review – Theme is ‘Nature’
URL:https://winnipegsouthphotoclub.ca/event/image-review-14/
LOCATION:Manitoba
CATEGORIES:Image Review
END:VEVENT
BEGIN:VEVENT
DTSTART;TZID=America/Winnipeg:20240403T193000
DTEND;TZID=America/Winnipeg:20240403T213000
DTSTAMP:20260425T112416
CREATED:20240327T030325Z
LAST-MODIFIED:20240327T031251Z
UID:7975-1712172600-1712179800@winnipegsouthphotoclub.ca
SUMMARY:Speakers: Elaine O'Keeffe and Robert Bisson
DESCRIPTION:Elaine: “My almost 365…”. \nElaine began 2023 with the goal to take a photo each day for the whole year. This is her tale of some successes\, some struggles and a whole lot of enrichment\, entitled “My almost 365…”. \nElaine has been a member of WSPC for 16 years. WSPC and all its members have been a very important part of her photographic journey. She is inspired by the beauty that surrounds her as she wanders in Winnipeg\, Manitoba and while travelling.  She aims to capture those special moments\, whether it is in the scenery that surrounds her\, the people within or discovering a hidden treasure. Her goal is to capture the inner character and vibrancy of whatever she is photographing so others may see it too. \n  \nRobert:  “Lightroom Classic vs Lightroom Cloud” \nA few years ago\, Adobe had introduced Lightroom Cloud (Lr CC) as an alternative to the original Lightroom Classic (LrC).  Recently there have been significant changes to the LR CC Ecosystem to closely match the capabilities of LrC.  \nRobert will review the various platforms of Lr CC ecosystem\, differences between LrC and Lr CC plus the pros and cons of each application.  He will also demonstrate how both platforms can be used together to serve the photographer’s organizational\, editing and exporting/sharing needs. \n  \n 
URL:https://winnipegsouthphotoclub.ca/event/speaker-to-be-announced/
LOCATION:Manitoba
CATEGORIES:Wednesday Night Program
END:VEVENT
BEGIN:VEVENT
DTSTART;TZID=America/Winnipeg:20240417T193000
DTEND;TZID=America/Winnipeg:20240417T213000
DTSTAMP:20260425T112416
CREATED:20240201T195801Z
LAST-MODIFIED:20240418T203709Z
UID:7245-1713382200-1713389400@winnipegsouthphotoclub.ca
SUMMARY:Speaker - Paul Epp
DESCRIPTION:Paul will be presenting on “Creativity & Creation” \nPaul Epp is an award winning hobby photographer from Winnipeg\, MB who has a love of nature and wildlife photography. He can be found on Instagram at: @pauleppic \nHe will share about how having the right mindset along with thoughtful planning can lead to better photo ops.
URL:https://winnipegsouthphotoclub.ca/event/speaker-tba-5/
LOCATION:Acadia Junior High\, 175 Killarney Ave\, Winnipeg\, Manitoba\, R3T 3B3\, Canada
CATEGORIES:Wednesday Night Program
END:VEVENT
BEGIN:VEVENT
DTSTART;TZID=America/Winnipeg:20240424T193000
DTEND;TZID=America/Winnipeg:20240424T213000
DTSTAMP:20260425T112416
CREATED:20240405T150255Z
LAST-MODIFIED:20240418T203156Z
UID:7998-1713987000-1713994200@winnipegsouthphotoclub.ca
SUMMARY:Image Review - Theme is 'Water'
DESCRIPTION:Image review; theme is ‘Water’
URL:https://winnipegsouthphotoclub.ca/event/image-review-18/
LOCATION:Zoom meeting
CATEGORIES:Image Review
END:VEVENT
BEGIN:VEVENT
DTSTART;TZID=America/Winnipeg:20240501T193000
DTEND;TZID=America/Winnipeg:20240501T213000
DTSTAMP:20260425T112416
CREATED:20240405T150011Z
LAST-MODIFIED:20240423T171441Z
UID:7992-1714591800-1714599000@winnipegsouthphotoclub.ca
SUMMARY:Speakers: Anil Sud and Peter Blahut
DESCRIPTION:Anil Sud: “Antarctica – My Winter Getaway!”. \nPeter Blahut: “Iceland: Land of Fire & Ice” \n  \n  \n 
URL:https://winnipegsouthphotoclub.ca/event/speaker-to-be-announced-2/
LOCATION:Acadia Junior High\, 175 Killarney Ave\, Winnipeg\, Manitoba\, R3T 3B3\, Canada
CATEGORIES:Wednesday Night Program
END:VEVENT
BEGIN:VEVENT
DTSTART;TZID=America/Winnipeg:20240515T193000
DTEND;TZID=America/Winnipeg:20240515T213000
DTSTAMP:20260425T112416
CREATED:20240412T185704Z
LAST-MODIFIED:20240418T203526Z
UID:7243-1715801400-1715808600@winnipegsouthphotoclub.ca
SUMMARY:Speakers - Joey Senft & Brian Stefaniuk
DESCRIPTION:Speaker series
URL:https://winnipegsouthphotoclub.ca/event/speaker-tba-4/
LOCATION:Acadia Junior High\, 175 Killarney Ave\, Winnipeg\, Manitoba\, R3T 3B3\, Canada
CATEGORIES:Wednesday Night Program
END:VEVENT
BEGIN:VEVENT
DTSTART;TZID=America/Winnipeg:20240524T063000
DTEND;TZID=America/Winnipeg:20240524T213000
DTSTAMP:20260425T112416
CREATED:20240405T150535Z
LAST-MODIFIED:20240809T153617Z
UID:8004-1716532200-1716586200@winnipegsouthphotoclub.ca
SUMMARY:AGM and Image Sharing
DESCRIPTION:Annual General Meeting\, supper\, and image sharing
URL:https://winnipegsouthphotoclub.ca/event/agm-and-image-sharing/
LOCATION:Manitoba
CATEGORIES:Other Club Activities
END:VEVENT
BEGIN:VEVENT
DTSTART;TZID=America/Winnipeg:20240915T100000
DTEND;TZID=America/Winnipeg:20240915T150000
DTSTAMP:20260425T112416
CREATED:20240828T151901Z
LAST-MODIFIED:20240828T151901Z
UID:10040-1726394400-1726412400@winnipegsouthphotoclub.ca
SUMMARY:Field Trip and Picnic Lunch
DESCRIPTION:Manitoba Hunter Jumper Association Fall Harvest Equestrian Event. Photograph the jumping at 10:00 followed by a bring your own lunch picnic at West Beach at 1:00.
URL:https://winnipegsouthphotoclub.ca/event/field-trip-and-picnic-lunch/
LOCATION:Bird’s Hill Provincial Park\, Manitoba\, Canada
END:VEVENT
BEGIN:VEVENT
DTSTART;TZID=America/Winnipeg:20240925T193000
DTEND;TZID=America/Winnipeg:20240925T213000
DTSTAMP:20260425T112416
CREATED:20240809T140832Z
LAST-MODIFIED:20240811T221056Z
UID:9982-1727292600-1727299800@winnipegsouthphotoclub.ca
SUMMARY:Welcome\, Member Introduction\, Image Review Process\, Image Review
DESCRIPTION:Members will introduce themselves and bring their favourite (or not) photo gear or gadget to discuss. \nKeith Putt will introduce the new Image review process. \nAn Image review will take place with 1 photo submitted from each member.
URL:https://winnipegsouthphotoclub.ca/event/welcome-member-introduction-image-review-process-image-review/
LOCATION:Acadia Junior High\, 175 Killarney Ave\, Winnipeg\, Manitoba\, R3T 3B3\, Canada
CATEGORIES:Image Review,Wednesday Night Program
END:VEVENT
BEGIN:VEVENT
DTSTART;TZID=America/Winnipeg:20241002T193000
DTEND;TZID=America/Winnipeg:20241002T213000
DTSTAMP:20260425T112416
CREATED:20240808T015436Z
LAST-MODIFIED:20240923T155409Z
UID:9926-1727897400-1727904600@winnipegsouthphotoclub.ca
SUMMARY:Speaker - Bram Singleton
DESCRIPTION:Bram Singleton will present on Computational Photography and will provide a demonstration. \nPhotography has been a life-long pursuit for Bram. He has been immersed fully in that world for over fifteen years. He received his Diploma of Professional Photography from what was formally known as PrairieView School of Photography.  He has worked as a professional photographer\, taught at both casual and diploma levels. He is currently a visual artist working primarily with photography.
URL:https://winnipegsouthphotoclub.ca/event/t-b-a/
LOCATION:Acadia Junior High\, 175 Killarney Ave\, Winnipeg\, Manitoba\, R3T 3B3\, Canada
CATEGORIES:Wednesday Night Program
END:VEVENT
BEGIN:VEVENT
DTSTART;TZID=America/Winnipeg:20241016T193000
DTEND;TZID=America/Winnipeg:20241016T213000
DTSTAMP:20260425T112416
CREATED:20240808T020300Z
LAST-MODIFIED:20240915T132542Z
UID:9928-1729107000-1729114200@winnipegsouthphotoclub.ca
SUMMARY:Speaker - Robert Bisson
DESCRIPTION:Robert Bisson will present “Woodlands Photography” and “A Comparison of Lightroom Classic and Lightroom Cloud \nRobert has been a member of WSPC since about 2014\, serving as President in 2018-19.  He had started with colour slide photography in the mid-1980’s\, with a main interest in documenting his travels to various areas of the world.  He then evolved to digital photography in the early 2000’s\,  starting with a point and shoot\, evolving to first a DSLR and then a mirrorless system.  His photography interests had been quite diverse over the years\, but primarily focused on landscape and wildlife topics.  His post-processing is mostly done with Adobe Lightroom Classic\, along with Photoshop and more recently DxO PhotoLab. \nIn the first half of the presentation\, Robert will cover his learnings and experience in the temperate rain forest\, plus some of the woodland areas in some of his local favorite local areas such as Riding Mountain and the Whiteshell. \nFor the second half of the evening\, Robert will present a comparison of Lightroom Classic and Lightroom Cloud applications\, highlighting the differences and how these apps can be used together. \n  \n  \n 
URL:https://winnipegsouthphotoclub.ca/event/t-b-a-2/
LOCATION:Acadia Junior High\, 175 Killarney Ave\, Winnipeg\, Manitoba\, R3T 3B3\, Canada
CATEGORIES:Wednesday Night Program
END:VEVENT
BEGIN:VEVENT
DTSTART;TZID=America/Winnipeg:20241020T100000
DTEND;TZID=America/Winnipeg:20241020T130000
DTSTAMP:20260425T112416
CREATED:20241006T193118Z
LAST-MODIFIED:20241008T173100Z
UID:10231-1729418400-1729429200@winnipegsouthphotoclub.ca
SUMMARY:Field Trip
DESCRIPTION:Field trip to Stonewall Quarry.
URL:https://winnipegsouthphotoclub.ca/event/field-trip/
LOCATION:Stonewall Quarry\, 166 Main Street\, Stonewall\, Manitoba\, R0C 2Z0\, Canada
END:VEVENT
BEGIN:VEVENT
DTSTART;TZID=America/Winnipeg:20241030T193000
DTEND;TZID=America/Winnipeg:20241030T213000
DTSTAMP:20260425T112416
CREATED:20240811T221756Z
LAST-MODIFIED:20240811T221756Z
UID:10007-1730316600-1730323800@winnipegsouthphotoclub.ca
SUMMARY:Image Review - Theme is "Trees"
DESCRIPTION:Theme is “Trees” \nA tree or trees must be a meaningful element of your composition.
URL:https://winnipegsouthphotoclub.ca/event/image-review-theme-is-trees/
LOCATION:Zoom meeting
CATEGORIES:Image Review
END:VEVENT
BEGIN:VEVENT
DTSTART;TZID=America/Winnipeg:20241106T193000
DTEND;TZID=America/Winnipeg:20241106T201500
DTSTAMP:20260425T112416
CREATED:20240808T020608Z
LAST-MODIFIED:20241025T122947Z
UID:9930-1730921400-1730924100@winnipegsouthphotoclub.ca
SUMMARY:Speakers - Wendy Stephenson and Carol Zimmerman
DESCRIPTION:Wendy Stephenson and Carol Zimmerman will present “Khutzeymateen\, the Grizzly Bear Sanctuary” \nWendy has been an active member of the Manitoba Camera Club as well as the chair of the Red River Exhibition Photo Salon. \nCarol is a member and the new Vice President of WSPC. \nThey will present on their recent trip to  British Columbia and their adventures in Khutzeymateen\, the Grizzly Bear Sanctuary.
URL:https://winnipegsouthphotoclub.ca/event/t-b-a-3/
LOCATION:Acadia Junior High\, 175 Killarney Ave\, Winnipeg\, Manitoba\, R3T 3B3\, Canada
CATEGORIES:Wednesday Night Program
END:VEVENT
BEGIN:VEVENT
DTSTART;TZID=America/Winnipeg:20241106T201500
DTEND;TZID=America/Winnipeg:20241106T213000
DTSTAMP:20260425T112416
CREATED:20241025T124557Z
LAST-MODIFIED:20241025T124917Z
UID:10282-1730924100-1730928600@winnipegsouthphotoclub.ca
SUMMARY:Speaker - Robert Bisson
DESCRIPTION:Robert Bisson will present a post-processing demonstration of Woodlands Photography \nRobert has been a member of WSPC since about 2014\, serving as President in 2018-19.  He had started with colour slide photography in the mid-1980’s\, with a main interest in documenting his travels to various areas of the world.  He then evolved to digital photography in the early 2000’s\,  starting with a point and shoot\, evolving to first a DSLR and then a mirrorless system.  His photography interests had been quite diverse over the years\, but primarily focused on landscape and wildlife topics.  His post-processing is mostly done with Adobe Lightroom Classic\, along with Photoshop and more recently DxO PhotoLab. \nA few weeks ago\, Robert delivered a presentation on Woodlands Photography. As part of the presentation\, a brief overview of post-processing considerations were reviewed. Since then\, there were requests made for a post-processing demonstration. \nRobert will provide post-processing demonstrations using both ACR/Photoshop and Lightroom workflows covering Raw file preparation\, Luminosity (Tone) adjustments\, Color adjustments\, and final clean-up
URL:https://winnipegsouthphotoclub.ca/event/speaker-robert-bisson/
LOCATION:Acadia Junior High\, 175 Killarney Ave\, Winnipeg\, Manitoba\, R3T 3B3\, Canada
CATEGORIES:Wednesday Night Program
END:VEVENT
BEGIN:VEVENT
DTSTART;TZID=America/Winnipeg:20241110T110000
DTEND;TZID=America/Winnipeg:20241110T130000
DTSTAMP:20260425T112416
CREATED:20241107T171941Z
LAST-MODIFIED:20241107T171941Z
UID:10381-1731236400-1731243600@winnipegsouthphotoclub.ca
SUMMARY:Field Trip
DESCRIPTION:Walking Tour of the Exchange District. Meet in front of City Hall\, 510 Main Street. We will start with the NW tour.
URL:https://winnipegsouthphotoclub.ca/event/field-trip-2/
LOCATION:Manitoba
CATEGORIES:Field Trip
END:VEVENT
END:VCALENDAR