BEGIN:VCALENDAR
VERSION:2.0
PRODID:-//Winnipeg South Photo Club - ECPv6.15.20//NONSGML v1.0//EN
CALSCALE:GREGORIAN
METHOD:PUBLISH
X-WR-CALNAME:Winnipeg South Photo Club
X-ORIGINAL-URL:https://winnipegsouthphotoclub.ca
X-WR-CALDESC:Events for Winnipeg South Photo Club
REFRESH-INTERVAL;VALUE=DURATION:PT1H
X-Robots-Tag:noindex
X-PUBLISHED-TTL:PT1H
BEGIN:VTIMEZONE
TZID:America/Winnipeg
BEGIN:DAYLIGHT
TZOFFSETFROM:-0600
TZOFFSETTO:-0500
TZNAME:CDT
DTSTART:20200308T080000
END:DAYLIGHT
BEGIN:STANDARD
TZOFFSETFROM:-0500
TZOFFSETTO:-0600
TZNAME:CST
DTSTART:20201101T070000
END:STANDARD
BEGIN:DAYLIGHT
TZOFFSETFROM:-0600
TZOFFSETTO:-0500
TZNAME:CDT
DTSTART:20210314T080000
END:DAYLIGHT
BEGIN:STANDARD
TZOFFSETFROM:-0500
TZOFFSETTO:-0600
TZNAME:CST
DTSTART:20211107T070000
END:STANDARD
BEGIN:DAYLIGHT
TZOFFSETFROM:-0600
TZOFFSETTO:-0500
TZNAME:CDT
DTSTART:20220313T080000
END:DAYLIGHT
BEGIN:STANDARD
TZOFFSETFROM:-0500
TZOFFSETTO:-0600
TZNAME:CST
DTSTART:20221106T070000
END:STANDARD
BEGIN:DAYLIGHT
TZOFFSETFROM:-0600
TZOFFSETTO:-0500
TZNAME:CDT
DTSTART:20230312T080000
END:DAYLIGHT
BEGIN:STANDARD
TZOFFSETFROM:-0500
TZOFFSETTO:-0600
TZNAME:CST
DTSTART:20231105T070000
END:STANDARD
BEGIN:DAYLIGHT
TZOFFSETFROM:-0600
TZOFFSETTO:-0500
TZNAME:CDT
DTSTART:20240310T080000
END:DAYLIGHT
BEGIN:STANDARD
TZOFFSETFROM:-0500
TZOFFSETTO:-0600
TZNAME:CST
DTSTART:20241103T070000
END:STANDARD
BEGIN:DAYLIGHT
TZOFFSETFROM:-0600
TZOFFSETTO:-0500
TZNAME:CDT
DTSTART:20250309T080000
END:DAYLIGHT
BEGIN:STANDARD
TZOFFSETFROM:-0500
TZOFFSETTO:-0600
TZNAME:CST
DTSTART:20251102T070000
END:STANDARD
END:VTIMEZONE
BEGIN:VEVENT
DTSTART;TZID=America/Winnipeg:20240110T193000
DTEND;TZID=America/Winnipeg:20240110T213000
DTSTAMP:20260425T114158
CREATED:20231231T183139Z
LAST-MODIFIED:20240102T222519Z
UID:7971-1704915000-1704922200@winnipegsouthphotoclub.ca
SUMMARY:Speaker Ronnie Gillfillan - Food Photography
DESCRIPTION:Ron has a dynamic background ranging from photographing cars and motorcycles\, fashion\, musicians. He has photographed from helicopters and photographed on movie sets.  Ron’s been a professional photographer for the past 50 years\, 15 of which were in Vancouver where he owned and operated a successful commercial studio\, he also had a studio in Kelowna BC for 2 years. Moving back to Winnipeg in 1995 he went to work for G.B. Graphics as their fashion and location photographer for 8 years. G.B. Graphics was the first studio in Winnipeg to go digital over 26 years ago. In 2003 he started teaching at Tec Voc High School as their Head Photography Instructor. \nRon has always been a proud member of Professional Photographer of Canada (PPOC) and Professional Photographer Association of Manitoba (PPAM). Ron has been a board member for the PPAM for two terms\, one as Promotions and one as Committee Chairman and in 1997 the Education Chairman in 1998\, and worked on the PPOC National Convention Ottawa/Hall in 1999. In 1997 he was presented with the Photographer of the Year award from PPAM. \nRon’s presentation on food photography will cover many topics\, including food styling\, plating\, selecting lenses\, product photography\, photo composition\, lighting\, and more. The presentation is suited both for a beginner looking for food photography basics or an experienced photographer looking to learn new skills.
URL:https://winnipegsouthphotoclub.ca/event/q-a-to-be-announced-3/
LOCATION:Acadia Junior High\, 175 Killarney Ave\, Winnipeg\, Manitoba\, R3T 3B3\, Canada
CATEGORIES:Wednesday Night Program
ATTACH;FMTTYPE=image/jpeg:https://winnipegsouthphotoclub.ca/wp-content/uploads/2023/12/Presentation-Ron-Gilfillan-Ice-cream-coffe-beans_Announce-Wed-Jan10_31Dec23.jpg
END:VEVENT
BEGIN:VEVENT
DTSTART;TZID=America/Winnipeg:20231215T183000
DTEND;TZID=America/Winnipeg:20231215T213000
DTSTAMP:20260425T114158
CREATED:20220901T012918Z
LAST-MODIFIED:20231128T201830Z
UID:7965-1702665000-1702675800@winnipegsouthphotoclub.ca
SUMMARY:Holiday Party
DESCRIPTION:Holiday party and image sharing
URL:https://winnipegsouthphotoclub.ca/event/holiday-party/
LOCATION:Bronx Park Community Center\, 720 Henderson Highway\, Winnipeg\, Manitoba\, R2K 0Z5\, Canada
CATEGORIES:Other Club Activities
END:VEVENT
BEGIN:VEVENT
DTSTART;TZID=America/Winnipeg:20231206T193000
DTEND;TZID=America/Winnipeg:20231206T213000
DTSTAMP:20260425T114158
CREATED:20231129T163418Z
LAST-MODIFIED:20231129T170304Z
UID:7977-1701891000-1701898200@winnipegsouthphotoclub.ca
SUMMARY:Speaker - Lindsay Reid
DESCRIPTION:Lindsay Reid is a Métis photographer\, based in Canada\, specializing in architectural exteriors\, interiors\, landscape photography and the designed/built environment. She works with architects\, interior designers\, landscape architects\, artists\, engineers and developers to capture images of their spaces and work they have designed and built. Her clients use the images captured for their marketing\, award applications\, project documentation and bidding proposals. Lindsay has been working as an architectural photographer for the past 7 years\, when she transitioned from her 15 year career as a graphic designer. For Lindsay\, photography has proven to be a perfect balance between creative and technical.
URL:https://winnipegsouthphotoclub.ca/event/q-a-to-be-announced-4/
LOCATION:Acadia Junior High\, 175 Killarney Ave\, Winnipeg\, Manitoba\, R3T 3B3\, Canada
CATEGORIES:Wednesday Night Program
END:VEVENT
BEGIN:VEVENT
DTSTART;TZID=America/Winnipeg:20231117T150000
DTEND;TZID=America/Winnipeg:20231117T160000
DTSTAMP:20260425T114158
CREATED:20220905T150342Z
LAST-MODIFIED:20231108T203241Z
UID:8000-1700233200-1700236800@winnipegsouthphotoclub.ca
SUMMARY:Manitoba Legislature - Field Trip
DESCRIPTION:The Winnipeg South Photo Club will be touring the Manitoba Legislature on Friday November 17th at 3:00 p.m. This is a private guided tour for our club. The tour will last approximately 1 hour and include the Stair Case\, Rotunda and Chamber. \nThere is no public parking on the Legislature grounds. They recommend street parking (metered) on Assiniboine Ave.\, Kennedy St. or at the Bay Parkade (St. Mary Ave at Memorial Blvd.). \nThey also recommend keeping tripods to a minimum\, especially since everything needs to go through security. 
URL:https://winnipegsouthphotoclub.ca/event/speaker-to-be-announced-3/
LOCATION:Manitoba Legislature\, Broadway and Osborne
CATEGORIES:Field Trip
END:VEVENT
BEGIN:VEVENT
DTSTART;TZID=America/Winnipeg:20231115T193000
DTEND;TZID=America/Winnipeg:20231115T213000
DTSTAMP:20260425T114158
CREATED:20220901T011740Z
LAST-MODIFIED:20231101T185847Z
UID:7953-1700076600-1700083800@winnipegsouthphotoclub.ca
SUMMARY:Nancy Kerr - Soap Bubbles and refraction photography
DESCRIPTION:Photo technique show and tell
URL:https://winnipegsouthphotoclub.ca/event/q-a-to-be-announced/
LOCATION:Acadia Junior High\, 175 Killarney Ave\, Winnipeg\, Manitoba\, R3T 3B3\, Canada
CATEGORIES:2nd Wed Q&A etc
END:VEVENT
BEGIN:VEVENT
DTSTART;TZID=America/Winnipeg:20231101T193000
DTEND;TZID=America/Winnipeg:20231101T213000
DTSTAMP:20260425T114158
CREATED:20220901T012017Z
LAST-MODIFIED:20231101T185229Z
UID:7957-1698867000-1698874200@winnipegsouthphotoclub.ca
SUMMARY:Pierre Richard - The Northwest Passage: Greenland to Alaska
DESCRIPTION:Pierre is a biologist and naturalist who has always loved travel and the outdoors. He took up photography in the late 1990s\, mainly to document his travels and wildlife observations. But became more ambitious in his composition after reading about photography and attending WSPC meetings. Pierre was a member of the WSPC executive for 4 years. He particularly affections bird photography but likes to photograph dramatic landscapes.  The presentation illustrates two of his Arctic trips on small expedition ships where he worked as a guide. \n 
URL:https://winnipegsouthphotoclub.ca/event/speaker-dave-benson/
LOCATION:Acadia Junior High\, 175 Killarney Ave\, Winnipeg\, Manitoba\, R3T 3B3\, Canada
CATEGORIES:Wednesday Night Program
END:VEVENT
BEGIN:VEVENT
DTSTART;TZID=America/Winnipeg:20231021T100000
DTEND;TZID=America/Winnipeg:20231021T130000
DTSTAMP:20260425T114158
CREATED:20221005T170435Z
LAST-MODIFIED:20230923T170129Z
UID:8041-1697882400-1697893200@winnipegsouthphotoclub.ca
SUMMARY:Trappist Monastery Provincial Heritage Park
DESCRIPTION:Field trip; bring a lunch.
URL:https://winnipegsouthphotoclub.ca/event/old-pinawa-dam/
LOCATION:Trappist Monastery Provincial Heritage Park\, St. Norbert\, Manitoba\, Canada
CATEGORIES:Field Trip
END:VEVENT
BEGIN:VEVENT
DTSTART;TZID=America/Winnipeg:20231018T193000
DTEND;TZID=America/Winnipeg:20231018T213000
DTSTAMP:20260425T114158
CREATED:20220828T172634Z
LAST-MODIFIED:20230923T164838Z
UID:7941-1697657400-1697664600@winnipegsouthphotoclub.ca
SUMMARY:Speaker - Keith Levit
DESCRIPTION:Street Photography and Back to Film \n 
URL:https://winnipegsouthphotoclub.ca/event/speaker-hans-arnold-2/
LOCATION:Acadia Junior High\, 175 Killarney Ave\, Winnipeg\, Manitoba\, R3T 3B3\, Canada
CATEGORIES:Wednesday Night Program
END:VEVENT
BEGIN:VEVENT
DTSTART;TZID=America/Winnipeg:20231004T193000
DTEND;TZID=America/Winnipeg:20231004T213000
DTSTAMP:20260425T114158
CREATED:20210820T182837Z
LAST-MODIFIED:20230923T162117Z
UID:7224-1696447800-1696455000@winnipegsouthphotoclub.ca
SUMMARY:David duChemin - The heart of the photograph
DESCRIPTION:Video lecture
URL:https://winnipegsouthphotoclub.ca/event/speaker-nancy-arnold/
LOCATION:Acadia Junior High\, 175 Killarney Ave\, Winnipeg\, Manitoba\, R3T 3B3\, Canada
CATEGORIES:Wednesday Night Program
END:VEVENT
BEGIN:VEVENT
DTSTART;TZID=America/Winnipeg:20230927T193000
DTEND;TZID=America/Winnipeg:20230927T213000
DTSTAMP:20260425T114158
CREATED:20220828T173125Z
LAST-MODIFIED:20230923T160829Z
UID:7947-1695843000-1695850200@winnipegsouthphotoclub.ca
SUMMARY:Welcome and Summer Image Sharing
DESCRIPTION:Welcome back from summer and image sharing
URL:https://winnipegsouthphotoclub.ca/event/welcome-and-summer-image-sharing/
LOCATION:Acadia Junior High\, 175 Killarney Ave\, Winnipeg\, Manitoba\, R3T 3B3\, Canada
CATEGORIES:Wednesday Night Program
END:VEVENT
BEGIN:VEVENT
DTSTART;TZID=America/Winnipeg:20230517T193000
DTEND;TZID=America/Winnipeg:20230517T213000
DTSTAMP:20260425T114158
CREATED:20220905T150429Z
LAST-MODIFIED:20230508T154739Z
UID:8002-1684351800-1684359000@winnipegsouthphotoclub.ca
SUMMARY:Q & A Dmitry Kirshner
DESCRIPTION:Q & A session presented by Dmitry Kirshner \nPhotography is an appealing pursuit to many because it allows individuals to capture and convey the world around them in a unique way. One of the reasons for this is the diverse range of genres and subgenres that exist within photography. Whether one is interested in journalistic street photography\, sweeping landscapes\, or studio portraits\, there is a subject matter\, technique\, or equipment that can speak to their interests and help them develop their own photographic style and voice. \nFor Dmitry\, the appeal of abstract photography lies in the ability to mix and match elements from other photo genres to create images that are emotionally resonant. Unlike other genres of photography that may have strict rules and expectations\, abstract photography provides the freedom to experiment with new equipment and techniques to reimagine reality. This opens up a world of creative possibilities where the only limitation is the photographer’s imagination. Even if your interests lie somewhere else\, practicing abstract photography can help you with: \n\nImproved Technical Skills: Creating abstract photographs often requires experimenting with new techniques and equipment. This can help photographers develop their technical skills\, such as understanding light\, composition\, and color theory\, which can then be applied to other genres of photography.\nIncreased Observation Skills: Abstract photography often involves looking at the world in a different way and finding beauty in unexpected places. This can improve a photographer’s observation skills\, helping them to see and appreciate the world around them in new ways.\nNew Perspective: Abstract photography challenges the viewer’s preconceptions of what a photograph should be\, and encourages them to look beyond the subject matter to the underlying textures\, colors\, and shapes. This can help photographers to see the world in a new and exciting way\, encouraging them to appreciate the beauty and complexity of the world around them\n\nIn his presentation\, he will aim to showcase the diverse range of abstract images he has created over the years and delve into the motivations that drove him to explore new techniques and subjects. He will do his best to offer practical advice for those who are interested in exploring the realm of abstract photography themselves. \nDmitry is a Winnipeg based landscape and abstract fine art photographer. 
URL:https://winnipegsouthphotoclub.ca/event/q-a-to-be-announced-7/
LOCATION:Manitoba
CATEGORIES:2nd Wed Q&A etc
END:VEVENT
BEGIN:VEVENT
DTSTART;TZID=America/Winnipeg:20230419T193000
DTEND;TZID=America/Winnipeg:20230419T213000
DTSTAMP:20260425T114158
CREATED:20220905T150207Z
LAST-MODIFIED:20230410T181313Z
UID:7996-1681932600-1681939800@winnipegsouthphotoclub.ca
SUMMARY:Q & A Keith Putt/Ryan Lucenkiw
DESCRIPTION:Q & A session\, session split into two smaller sessions. \nRyan Lucenkiw will be taking a deep dive into exposure; diagnosing issues\, making corrections and providing various tips and tricks. \nKeith Putt will be doing a session on composition. While Keith says he will never claim to understand composition\, he will share the elements of composition and subject that create his own personal style. He will also share his own approach to yielding more of the photos he likes with the least wasted effort.
URL:https://winnipegsouthphotoclub.ca/event/q-a-to-be-announced-6/
LOCATION:Manitoba
CATEGORIES:2nd Wed Q&A etc
END:VEVENT
BEGIN:VEVENT
DTSTART;TZID=America/Winnipeg:20230329T193000
DTEND;TZID=America/Winnipeg:20230329T213000
DTSTAMP:20260425T114158
CREATED:20220905T145916Z
LAST-MODIFIED:20220905T150053Z
UID:7990-1680118200-1680125400@winnipegsouthphotoclub.ca
SUMMARY:Image Review
DESCRIPTION:Image critique
URL:https://winnipegsouthphotoclub.ca/event/image-review-17/
LOCATION:Manitoba
CATEGORIES:Image Review
END:VEVENT
BEGIN:VEVENT
DTSTART;TZID=America/Winnipeg:20230222T193000
DTEND;TZID=America/Winnipeg:20230222T213000
DTSTAMP:20260425T114158
CREATED:20220901T013602Z
LAST-MODIFIED:20220901T013602Z
UID:7979-1677094200-1677101400@winnipegsouthphotoclub.ca
SUMMARY:Image Review
DESCRIPTION:Image critique
URL:https://winnipegsouthphotoclub.ca/event/image-review-16/
LOCATION:Manitoba
CATEGORIES:Image Review
END:VEVENT
BEGIN:VEVENT
DTSTART;TZID=America/Winnipeg:20230215T193000
DTEND;TZID=America/Winnipeg:20230215T213000
DTSTAMP:20260425T114158
CREATED:20220901T013747Z
LAST-MODIFIED:20230120T005034Z
UID:7983-1676489400-1676496600@winnipegsouthphotoclub.ca
SUMMARY:Q & A Bruce Leppky NIK Collection
DESCRIPTION:Bruce will give us a crash course on using NIK Collection. A plug in for Photoshop or Lightroom.
URL:https://winnipegsouthphotoclub.ca/event/q-a-to-be-announced-5/
LOCATION:Manitoba
CATEGORIES:2nd Wed Q&A etc
END:VEVENT
BEGIN:VEVENT
DTSTART;TZID=America/Winnipeg:20230121T100000
DTEND;TZID=America/Winnipeg:20230121T140000
DTSTAMP:20260425T114158
CREATED:20230106T011150Z
LAST-MODIFIED:20230106T011342Z
UID:8344-1674295200-1674309600@winnipegsouthphotoclub.ca
SUMMARY:Royal Aviation Museum of Western Canada
DESCRIPTION:Admission $15 (Seniors 65+ $12) Tickets available online\, GST not included \nParking $5 per 4 hours with paid admission
URL:https://winnipegsouthphotoclub.ca/event/royal-aviation-museum-of-western-canada/
LOCATION:Western Aviation Museum of Western Canada\, 2088 Wellington Avenue\, Winnipeg\, MB\, R3H 1C1\, Canada
CATEGORIES:Field Trip
END:VEVENT
BEGIN:VEVENT
DTSTART;TZID=America/Winnipeg:20230111T193000
DTEND;TZID=America/Winnipeg:20230111T213000
DTSTAMP:20260425T114158
CREATED:20220901T013022Z
LAST-MODIFIED:20230104T234658Z
UID:7969-1673465400-1673472600@winnipegsouthphotoclub.ca
SUMMARY:Speaker Walter Potrebka
DESCRIPTION:Walter Potrebka presents Using Mirrorless Cameras for Bird Photography. The presentation will be about how Walter uses his mirrorless system for bird photography.  He will discuss the benefits of mirrorless cameras for bird photography\, and how he uses those benefits to capture his images. \nWalter’s love for photography started when he was growing up on the family farm near Riding Mountain National Park in Manitoba\, Canada. His interest in photography started when he borrowed his sister’s camera for a trip to British Columbia when he was 13. Seeing the natural beauty of the Rocky Mountains through the camera had him hooked. Combining these two loves is what drives his photography. He tries to capture the beauty that is always around\, from the close up of a tiny songbird\, to the wide vista of the Black Sand Beaches in Iceland. Recently he has been honoured to be included in the top 100 of the Audubon Bird Photography Awards\, and was a finalist in the Bird Photographer of the Year.
URL:https://winnipegsouthphotoclub.ca/event/speaker-walter-potrebka/
LOCATION:Acadia Junior High\, 175 Killarney Ave\, Winnipeg\, Manitoba\, R3T 3B3\, Canada
CATEGORIES:Wednesday Night Program
END:VEVENT
BEGIN:VEVENT
DTSTART;TZID=America/Winnipeg:20221110T190000
DTEND;TZID=America/Winnipeg:20221110T210000
DTSTAMP:20260425T114158
CREATED:20220901T012141Z
LAST-MODIFIED:20221014T010219Z
UID:7959-1668106800-1668114000@winnipegsouthphotoclub.ca
SUMMARY:Tim Smith - In The World But Not Of It
DESCRIPTION:Tim Smith’s photographs provide a contemporary and nuanced view of the Hutterite colonies – delving into complex decisions at the heart of the everyday. They offer a glimpse into the continuously negotiated sites of Hutterite life. Many of the images focus on the youth culture in the colonies\, where expressions of rebellion\, respect for tradition\, and maintenance of strict gender roles all create a sense of dual resistance – at once against the pressures of the outside world and against tradition. Having devoted twelve years to this ongoing documentation\, Smith’s understanding of the Hutterite communities creates a possibility of showing their complexity in ways that are responsive to how they wish to be seen.
URL:https://winnipegsouthphotoclub.ca/event/q-a-to-be-announced-2/
LOCATION:MHC Gallery\, 600 Shaftesbury Blvd\, Winnipeg\, Manitoba\, R3P 0M4
CATEGORIES:Field Trip
END:VEVENT
BEGIN:VEVENT
DTSTART;TZID=America/Winnipeg:20220928T180000
DTEND;TZID=America/Winnipeg:20220928T200000
DTSTAMP:20260425T114158
CREATED:20220921T011548Z
LAST-MODIFIED:20220921T011627Z
UID:8020-1664388000-1664395200@winnipegsouthphotoclub.ca
SUMMARY:Evening Goose Flights
DESCRIPTION:Field trip
URL:https://winnipegsouthphotoclub.ca/event/evening-goose-flights-field-trip/
LOCATION:Fortwhyte Alive
CATEGORIES:Field Trip
END:VEVENT
BEGIN:VEVENT
DTSTART;TZID=America/Winnipeg:20220527T183000
DTEND;TZID=America/Winnipeg:20220527T213000
DTSTAMP:20260425T114158
CREATED:20210820T190938Z
LAST-MODIFIED:20210820T190938Z
UID:7268-1653676200-1653687000@winnipegsouthphotoclub.ca
SUMMARY:Annual general meeting
DESCRIPTION:Dinner and AGM
URL:https://winnipegsouthphotoclub.ca/event/annual-general-meeting-4/
LOCATION:St Norbert Arts Center\, 100 Rue des Ruines du Monastere\, Winnipeg\, Manitoba\, R3V 1L6\, Canada
CATEGORIES:Other Club Activities
END:VEVENT
BEGIN:VEVENT
DTSTART;TZID=America/Winnipeg:20220427T193000
DTEND;TZID=America/Winnipeg:20220427T213000
DTSTAMP:20260425T114158
CREATED:20210820T190837Z
LAST-MODIFIED:20210820T190837Z
UID:7266-1651087800-1651095000@winnipegsouthphotoclub.ca
SUMMARY:Image review
DESCRIPTION:Image critique
URL:https://winnipegsouthphotoclub.ca/event/image-review-12/
LOCATION:Manitoba
CATEGORIES:Image Review
END:VEVENT
BEGIN:VEVENT
DTSTART;TZID=America/Winnipeg:20220420T193000
DTEND;TZID=America/Winnipeg:20220420T213000
DTSTAMP:20260425T114158
CREATED:20220106T161607Z
LAST-MODIFIED:20220203T033121Z
UID:7559-1650483000-1650490200@winnipegsouthphotoclub.ca
SUMMARY:Q & A Event - Robert Bisson on Lightroom Library Module and imports with Presets or Colour Profiles
DESCRIPTION:
URL:https://winnipegsouthphotoclub.ca/event/q-a-event-robert-bisson-on-lightroom-library-module-and-imports-with-presets-or-colour-profiles/
LOCATION:Manitoba
CATEGORIES:Wednesday Night Program
END:VEVENT
BEGIN:VEVENT
DTSTART;TZID=America/Winnipeg:20220323T193000
DTEND;TZID=America/Winnipeg:20220323T213000
DTSTAMP:20260425T114158
CREATED:20210820T190735Z
LAST-MODIFIED:20210820T190735Z
UID:7264-1648063800-1648071000@winnipegsouthphotoclub.ca
SUMMARY:Image review
DESCRIPTION:Image critique
URL:https://winnipegsouthphotoclub.ca/event/image-review-11/
LOCATION:Manitoba
CATEGORIES:Image Review
END:VEVENT
BEGIN:VEVENT
DTSTART;TZID=America/Winnipeg:20220316T193000
DTEND;TZID=America/Winnipeg:20220316T213000
DTSTAMP:20260425T114158
CREATED:20210820T190009Z
LAST-MODIFIED:20220203T032642Z
UID:7249-1647459000-1647466200@winnipegsouthphotoclub.ca
SUMMARY:Q & A Event - Keith Putt on "How to use Photoshop Layers"
DESCRIPTION:Speaker – Keith Putt – Photoshop layers
URL:https://winnipegsouthphotoclub.ca/event/q-a-event-6/
LOCATION:Manitoba
CATEGORIES:Wednesday Night Program
END:VEVENT
BEGIN:VEVENT
DTSTART;TZID=America/Winnipeg:20220223T193000
DTEND;TZID=America/Winnipeg:20220223T213000
DTSTAMP:20260425T114158
CREATED:20210820T190640Z
LAST-MODIFIED:20210820T190640Z
UID:7262-1645644600-1645651800@winnipegsouthphotoclub.ca
SUMMARY:Image review
DESCRIPTION:Image critique
URL:https://winnipegsouthphotoclub.ca/event/image-review-10/
LOCATION:Manitoba
CATEGORIES:Image Review
END:VEVENT
BEGIN:VEVENT
DTSTART;TZID=America/Winnipeg:20220216T193000
DTEND;TZID=America/Winnipeg:20220216T213000
DTSTAMP:20260425T114158
CREATED:20210820T190105Z
LAST-MODIFIED:20220114T093922Z
UID:7251-1645039800-1645047000@winnipegsouthphotoclub.ca
SUMMARY:Speakers - April\, Louise & Elaine
DESCRIPTION:Speaker series
URL:https://winnipegsouthphotoclub.ca/event/q-a-event-7/
LOCATION:Manitoba
CATEGORIES:Wednesday Night Program
END:VEVENT
BEGIN:VEVENT
DTSTART;TZID=America/Winnipeg:20220202T193000
DTEND;TZID=America/Winnipeg:20220202T213000
DTSTAMP:20260425T114158
CREATED:20210820T185559Z
LAST-MODIFIED:20220114T091919Z
UID:7241-1643830200-1643837400@winnipegsouthphotoclub.ca
SUMMARY:Q & A Event - Dmitry Kirshner on "TKActions - Photoshop made easy"
DESCRIPTION:Q & A
URL:https://winnipegsouthphotoclub.ca/event/speaker-tba-3/
LOCATION:St Norbert Arts Center\, 100 Rue des Ruines du Monastere\, Winnipeg\, Manitoba\, R3V 1L6\, Canada
CATEGORIES:Wednesday Night Program
END:VEVENT
BEGIN:VEVENT
DTSTART;TZID=America/Winnipeg:20220126T193000
DTEND;TZID=America/Winnipeg:20220126T213000
DTSTAMP:20260425T114158
CREATED:20210820T190538Z
LAST-MODIFIED:20210820T190538Z
UID:7260-1643225400-1643232600@winnipegsouthphotoclub.ca
SUMMARY:Image review
DESCRIPTION:Image critique
URL:https://winnipegsouthphotoclub.ca/event/image-review-9/
LOCATION:Manitoba
CATEGORIES:Image Review
END:VEVENT
BEGIN:VEVENT
DTSTART;TZID=America/Winnipeg:20220105T193000
DTEND;TZID=America/Winnipeg:20220105T213000
DTSTAMP:20260425T114158
CREATED:20210820T185406Z
LAST-MODIFIED:20211119T005401Z
UID:7239-1641411000-1641418200@winnipegsouthphotoclub.ca
SUMMARY:Speaker - Drew Hamilton
DESCRIPTION:Speaker series
URL:https://winnipegsouthphotoclub.ca/event/speaker-tba-2/
LOCATION:St Norbert Arts Center\, 100 Rue des Ruines du Monastere\, Winnipeg\, Manitoba\, R3V 1L6\, Canada
CATEGORIES:Wednesday Night Program
END:VEVENT
BEGIN:VEVENT
DTSTART;TZID=America/Winnipeg:20211217T183000
DTEND;TZID=America/Winnipeg:20211217T213000
DTSTAMP:20260425T114158
CREATED:20210820T184808Z
LAST-MODIFIED:20210820T185204Z
UID:7237-1639765800-1639776600@winnipegsouthphotoclub.ca
SUMMARY:WSPC - Holiday party
DESCRIPTION:To share the holiday spirit
URL:https://winnipegsouthphotoclub.ca/event/wspc-holiday-party/
LOCATION:St Norbert Arts Center\, 100 Rue des Ruines du Monastere\, Winnipeg\, Manitoba\, R3V 1L6\, Canada
CATEGORIES:Other Club Activities
END:VEVENT
END:VCALENDAR