BEGIN:VCALENDAR
VERSION:2.0
PRODID:-//Winnipeg South Photo Club - ECPv6.15.20//NONSGML v1.0//EN
CALSCALE:GREGORIAN
METHOD:PUBLISH
X-ORIGINAL-URL:https://winnipegsouthphotoclub.ca
X-WR-CALDESC:Events for Winnipeg South Photo Club
REFRESH-INTERVAL;VALUE=DURATION:PT1H
X-Robots-Tag:noindex
X-PUBLISHED-TTL:PT1H
BEGIN:VTIMEZONE
TZID:America/Winnipeg
BEGIN:DAYLIGHT
TZOFFSETFROM:-0600
TZOFFSETTO:-0500
TZNAME:CDT
DTSTART:20250309T080000
END:DAYLIGHT
BEGIN:STANDARD
TZOFFSETFROM:-0500
TZOFFSETTO:-0600
TZNAME:CST
DTSTART:20251102T070000
END:STANDARD
BEGIN:DAYLIGHT
TZOFFSETFROM:-0600
TZOFFSETTO:-0500
TZNAME:CDT
DTSTART:20260308T080000
END:DAYLIGHT
BEGIN:STANDARD
TZOFFSETFROM:-0500
TZOFFSETTO:-0600
TZNAME:CST
DTSTART:20261101T070000
END:STANDARD
BEGIN:DAYLIGHT
TZOFFSETFROM:-0600
TZOFFSETTO:-0500
TZNAME:CDT
DTSTART:20270314T080000
END:DAYLIGHT
BEGIN:STANDARD
TZOFFSETFROM:-0500
TZOFFSETTO:-0600
TZNAME:CST
DTSTART:20271107T070000
END:STANDARD
END:VTIMEZONE
BEGIN:VEVENT
DTSTART;TZID=America/Winnipeg:20260318T193000
DTEND;TZID=America/Winnipeg:20260318T213000
DTSTAMP:20260425T202346
CREATED:20250820T152355Z
LAST-MODIFIED:20260311T134311Z
UID:11157-1773862200-1773869400@winnipegsouthphotoclub.ca
SUMMARY:Speaker - Jocelyne Hebert
DESCRIPTION:Jocelyne Hebert will present “Behind the Story-A Journey from Concept to Completion” \nJocelyne Hebert\, MPA has been captivated by photography and storytelling since childhood. This \nlifelong passion gives her the artistic freedom to explore and share the beauty of the world \nthrough her lens. Specializing in portraiture\, Jocelyne thrives on the creative challenges of \nphotographic competition—pushing herself to express emotions and narratives that words alone \ncannot convey. \nStorytelling is at the heart of powerful photography. While a technically perfect image can impress\, \nit’s the story behind the photograph that creates connection. Visual storytelling brings context\, \nemotion\, and meaning to an image— transforming a simple portrait into a rich narrative\, a fleeting \nmoment into a lasting memory\, and a subject into a relatable character. \nThrough composition\, lighting\, expression\, setting\, and thoughtful detail\, photographers can \nsuggest relationships\, histories\, moods\, and ideas without saying a word. This storytelling layer \ninvites viewers to pause\, reflect\, and feel something deeper. \nUltimately\, storytelling elevates photography from documentation to art. It’s what makes an image \nmemorable\, impactful\, and emotionally resonant—because it speaks not just to the eyes\, but to the \nheart and imagination. \n 
URL:https://winnipegsouthphotoclub.ca/event/speaker-tba-9/
LOCATION:Acadia Junior High\, 175 Killarney Ave\, Winnipeg\, Manitoba\, R3T 3B3\, Canada
CATEGORIES:Wednesday Night Program
END:VEVENT
BEGIN:VEVENT
DTSTART;TZID=America/Winnipeg:20260408T193000
DTEND;TZID=America/Winnipeg:20260408T213000
DTSTAMP:20260425T202346
CREATED:20250820T152300Z
LAST-MODIFIED:20260325T160226Z
UID:11155-1775676600-1775683800@winnipegsouthphotoclub.ca
SUMMARY:Speaker - Wolfgang Jansen
DESCRIPTION:Wolfgang Jansen will present “Costa Rica – Pura Natura \nWolfgang grew up in Germany where he got his first photographic experience using his father’s box camera when visiting the Cologne Zoo as a child. Since 1982 Wolfgang has mostly lived in Canada\, attending university and working as a freshwater scientist. In retirement\, Wolfgang has continued his travels and photographic excursions within Canada\, the Americas\, Europe\, Asia\, and Africa. His photographic interests include abstract\, landscape\, wildlife\, and the interconnection of people with the environment. \nThe presentation draws on the experience of two extended independent travels through Costa Rica in 2023 and 2024. The country has been a champion of nature conservation for many decades and boasts a large network of protected areas. Images will showcase the variety of Costa Rica’s ecosystems and their animal life. \n 
URL:https://winnipegsouthphotoclub.ca/event/speaker-tba-8/
LOCATION:Acadia Junior High\, 175 Killarney Ave\, Winnipeg\, Manitoba\, R3T 3B3\, Canada
CATEGORIES:Wednesday Night Program
END:VEVENT
BEGIN:VEVENT
DTSTART;TZID=America/Winnipeg:20260415T193000
DTEND;TZID=America/Winnipeg:20260415T213000
DTSTAMP:20260425T202346
CREATED:20240809T133215Z
LAST-MODIFIED:20250820T151418Z
UID:9968-1776281400-1776288600@winnipegsouthphotoclub.ca
SUMMARY:Speaker - Dustin Glaseman
DESCRIPTION:Dustin Glaseman will speak on “Growing Wild: Finding Purpose in Wildlife Photography and Community Building” \nIn 2022\, after more than a decade of post-secondary education and a late-in-life ADHD diagnosis\, wildlife photographer Dustin Glaseman launched The Dusty Unknown—a photography company focused on conservation\, collaboration\, and community. What happened over the next three years changed Dustin’s life forever. Join Dustin as he shares his journey from three-time university graduate with a love of wildlife\, to a business owner with work in retail spaces\, galleries\, and art fairs. Welcome to The Dusty Unknown.   \n 
URL:https://winnipegsouthphotoclub.ca/event/t-b-a-14/
LOCATION:Acadia Junior High\, 175 Killarney Ave\, Winnipeg\, Manitoba\, R3T 3B3\, Canada
CATEGORIES:Wednesday Night Program
END:VEVENT
BEGIN:VEVENT
DTSTART;TZID=America/Winnipeg:20260506T193000
DTEND;TZID=America/Winnipeg:20260506T213000
DTSTAMP:20260425T202346
CREATED:20250820T152457Z
LAST-MODIFIED:20260412T144101Z
UID:11159-1778095800-1778103000@winnipegsouthphotoclub.ca
SUMMARY:Speaker - Sam Baardman
DESCRIPTION:Sam Baardman will present “Projects in Environmental Photography \nSam Baardman is a multi-disciplinary artist living in Winnipeg\, Canada. As a wilderness and environmental photographer\, Sam has exhibited photography and video installations in galleries in Canada and the United States.  He has also released 4 full-length albums and has toured extensively as a singer-songwriter.  In 2025 he was appointed as an United Nations University Artist-In-Residence for the United Nations International Year of Glaciers Preservation.  In December\, 2025\, Sam was awarded the United Nations University Medal for Outstanding Contribution to the United Nations International Year of Glaciers’ Preservation.  He is currently serving as a Scholarly Mentor with the Pierre Elliott Trudeau Foundation.  In 2006\, Sam co-founded the River on the Run Artist Collective. Working in collaboration with biologists and climate scientists\, their art investigates the increasingly fragile relationship between humans and their habitats.  \nSam will share several photographic series that represent his development as an environmental photographer.  He will talk about what worked and what didn’t\, and what led him to his current work on glaciers and icefields. \n 
URL:https://winnipegsouthphotoclub.ca/event/speaker-tba-10/
LOCATION:Acadia Junior High\, 175 Killarney Ave\, Winnipeg\, Manitoba\, R3T 3B3\, Canada
CATEGORIES:Wednesday Night Program
END:VEVENT
BEGIN:VEVENT
DTSTART;TZID=America/Winnipeg:20260520T183000
DTEND;TZID=America/Winnipeg:20260520T213000
DTSTAMP:20260425T202346
CREATED:20250820T152551Z
LAST-MODIFIED:20260103T225827Z
UID:11161-1779301800-1779312600@winnipegsouthphotoclub.ca
SUMMARY:Speaker - Shannon Bileski
DESCRIPTION:Shannon Bileski will present
URL:https://winnipegsouthphotoclub.ca/event/speaker-tba-11/
LOCATION:Acadia Junior High\, 175 Killarney Ave\, Winnipeg\, Manitoba\, R3T 3B3\, Canada
CATEGORIES:Wednesday Night Program
END:VEVENT
END:VCALENDAR