BEGIN:VCALENDAR
VERSION:2.0
PRODID:-//Winnipeg South Photo Club - ECPv6.15.20//NONSGML v1.0//EN
CALSCALE:GREGORIAN
METHOD:PUBLISH
X-WR-CALNAME:Winnipeg South Photo Club
X-ORIGINAL-URL:https://winnipegsouthphotoclub.ca
X-WR-CALDESC:Events for Winnipeg South Photo Club
REFRESH-INTERVAL;VALUE=DURATION:PT1H
X-Robots-Tag:noindex
X-PUBLISHED-TTL:PT1H
BEGIN:VTIMEZONE
TZID:America/Winnipeg
BEGIN:DAYLIGHT
TZOFFSETFROM:-0600
TZOFFSETTO:-0500
TZNAME:CDT
DTSTART:20240310T080000
END:DAYLIGHT
BEGIN:STANDARD
TZOFFSETFROM:-0500
TZOFFSETTO:-0600
TZNAME:CST
DTSTART:20241103T070000
END:STANDARD
BEGIN:DAYLIGHT
TZOFFSETFROM:-0600
TZOFFSETTO:-0500
TZNAME:CDT
DTSTART:20250309T080000
END:DAYLIGHT
BEGIN:STANDARD
TZOFFSETFROM:-0500
TZOFFSETTO:-0600
TZNAME:CST
DTSTART:20251102T070000
END:STANDARD
BEGIN:DAYLIGHT
TZOFFSETFROM:-0600
TZOFFSETTO:-0500
TZNAME:CDT
DTSTART:20260308T080000
END:DAYLIGHT
BEGIN:STANDARD
TZOFFSETFROM:-0500
TZOFFSETTO:-0600
TZNAME:CST
DTSTART:20261101T070000
END:STANDARD
BEGIN:DAYLIGHT
TZOFFSETFROM:-0600
TZOFFSETTO:-0500
TZNAME:CDT
DTSTART:20270314T080000
END:DAYLIGHT
BEGIN:STANDARD
TZOFFSETFROM:-0500
TZOFFSETTO:-0600
TZNAME:CST
DTSTART:20271107T070000
END:STANDARD
END:VTIMEZONE
BEGIN:VEVENT
DTSTART;TZID=America/Winnipeg:20251105T190000
DTEND;TZID=America/Winnipeg:20251105T210000
DTSTAMP:20260425T190614
CREATED:20250902T140218Z
LAST-MODIFIED:20250907T165811Z
UID:11176-1762369200-1762376400@winnipegsouthphotoclub.ca
SUMMARY:Image Review - Theme is "Windows and Doors"
DESCRIPTION:Theme is “Windows and Doors”
URL:https://winnipegsouthphotoclub.ca/event/image-review-theme-is-windows-and-doors/
LOCATION:Zoom meeting
CATEGORIES:Image Review
END:VEVENT
BEGIN:VEVENT
DTSTART;TZID=America/Winnipeg:20251126T190000
DTEND;TZID=America/Winnipeg:20251126T210000
DTSTAMP:20260425T190614
CREATED:20250902T140346Z
LAST-MODIFIED:20250902T140746Z
UID:11178-1764183600-1764190800@winnipegsouthphotoclub.ca
SUMMARY:Image Review - Theme is "Monochrome"
DESCRIPTION:Theme is “Monochrome”
URL:https://winnipegsouthphotoclub.ca/event/image-review-theme-is-monochrome-2/
LOCATION:Zoom meeting
CATEGORIES:Image Review
END:VEVENT
BEGIN:VEVENT
DTSTART;TZID=America/Winnipeg:20260128T190000
DTEND;TZID=America/Winnipeg:20260128T210000
DTSTAMP:20260425T190614
CREATED:20250902T140555Z
LAST-MODIFIED:20250902T140555Z
UID:11180-1769626800-1769634000@winnipegsouthphotoclub.ca
SUMMARY:Image Review - Theme is "Motion"
DESCRIPTION:Theme is “Motion”
URL:https://winnipegsouthphotoclub.ca/event/image-review-theme-is-motion/
LOCATION:Zoom meeting
CATEGORIES:Image Review
END:VEVENT
BEGIN:VEVENT
DTSTART;TZID=America/Winnipeg:20260225T190000
DTEND;TZID=America/Winnipeg:20260225T210000
DTSTAMP:20260425T190614
CREATED:20250902T141043Z
LAST-MODIFIED:20250902T141043Z
UID:11184-1772046000-1772053200@winnipegsouthphotoclub.ca
SUMMARY:Image Review - Theme is "Open"
DESCRIPTION:Theme is “Open”
URL:https://winnipegsouthphotoclub.ca/event/image-review-theme-is-open-3/
LOCATION:Zoom meeting
CATEGORIES:Image Review
END:VEVENT
BEGIN:VEVENT
DTSTART;TZID=America/Winnipeg:20260325T190000
DTEND;TZID=America/Winnipeg:20260325T210000
DTSTAMP:20260425T190614
CREATED:20250902T141225Z
LAST-MODIFIED:20250902T141225Z
UID:11186-1774465200-1774472400@winnipegsouthphotoclub.ca
SUMMARY:Image Review - Theme is "A Pop of Color"
DESCRIPTION:Theme is “A Pop of Color”
URL:https://winnipegsouthphotoclub.ca/event/image-review-theme-is-a-pop-of-color/
LOCATION:Zoom meeting
CATEGORIES:Image Review
END:VEVENT
BEGIN:VEVENT
DTSTART;TZID=America/Winnipeg:20260429T190000
DTEND;TZID=America/Winnipeg:20260429T210000
DTSTAMP:20260425T190614
CREATED:20250902T141401Z
LAST-MODIFIED:20250902T141401Z
UID:11188-1777489200-1777496400@winnipegsouthphotoclub.ca
SUMMARY:Image Review - Theme is "Transportation"
DESCRIPTION:Theme is “Transportation”
URL:https://winnipegsouthphotoclub.ca/event/image-review-theme-is-transportation/
LOCATION:Zoom meeting
CATEGORIES:Image Review
END:VEVENT
END:VCALENDAR